Workbook

Sheet Качество планирования расходов
A1: Наименование учреждения | B1: Общая оценка в баллах | C1: Наименование показателей оценки
C2: 1. Качество планирования расходов*
C3: 1.1. Количество изменений, внесенных в бюджетную смету, план финансово-хозяйственной деятельности
C4: оценка | D4: вес | E4: в баллах
A5: 1. МКУ "УСЗН Ворошиловского района г.Ростова-на-Дону" | B5: =E5 -> 0 | D5: 100 | E5: =C5*D5 -> 0
A6: 2. МКУ "УСЗН Железнодорожного района г.Ростова-на-Дону" | B6: =E6 -> 0 | D6: 100 | E6: =C6*D6 -> 0
A7: 3. МКУ "УСЗН Кировского района г.Ростова-на-Дону" | B7: =E7 -> 0 | D7: 100 | E7: =C7*D7 -> 0
A8: 4. МКУ "УСЗН Ленинского района г.Ростова-на-Дону" | B8: =E8 -> 0 | D8: 100 | E8: =C8*D8 -> 0
A9: 5. МКУ "УСЗН Октябрьского района г.Ростова-на-Дону" | B9: =E9 -> 0 | D9: 100 | E9: =C9*D9 -> 0
A10: 6. МКУ "УСЗН Первомайского района г.Ростова-на-Дону" | B10: =E10 -> 0 | D10: 100 | E10: =C10*D10 -> 0
A11: 7. МКУ "УСЗН Пролетарского района г.Ростова-на-Дону" | B11: =E11 -> 0 | D11: 100 | E11: =C11*D11 -> 0
A12: 8. МКУ "УСЗН Советского района г.Ростова-на-Дону" | B12: =E12 -> 0 | D12: 100 | E12: =C12*D12 -> 0
A13: 9. МБУ "ЦСОН Ворошиловского района г.Ростова-на-Дону" | B13: =E13 -> 0 | D13: 100 | E13: =C13*D13 -> 0
A14: 10. МБУ "ЦСОН Железнодорожного района г.Ростова-на-Дону" | B14: =E14 -> 0 | D14: 100 | E14: =C14*D14 -> 0
A15: 11. МБУ "ЦСОН Кировского района г.Ростова-на-Дону" | B15: =E15 -> 0 | D15: 100 | E15: =C15*D15 -> 0
A16: 12. МБУ "ЦСОН Ленинского района г.Ростова-на-Дону" | B16: =E16 -> 0 | D16: 100 | E16: =C16*D16 -> 0
... A21: 17. МБУ СО "РЦ г. Ростова-на-Дону" | B21: =E21 -> 0 | D21: 100 | E21: =C21*D21 -> 0
A22: *показатель оценивается по итогам года

Sheet Исполнение бюджета по расходам
A1: Наименование учреждений | B1: Общая оценка в баллах | C1: Наименование показателей оценки
C2: 2. Исполнение бюджета по расходам
C3: 2.1. Доля неисполненных на конец отчетного финансового года бюджетных ассигнований учреждением* | F3: 2.2. Равномерность расходов * | I3: 2.3. Исполнение утвержденных показателей кассового плана | L3: 2.4. Полнота исполнения муниципальных заданий* | O3: 2.5. Наличие остатков (с указанием причин возникновения) по субсидиям на финансовое обеспечение выполнения муниципального задания на конец отчетного года * | R3: 2.6. Наличие просроченной кредиторской задолженности
C4: оценка | D4: вес | E4: в баллах | F4: оценка | G4: вес | H4: в баллах | I4: оценка | J4: вес | K4: в баллах | L4: оценка | M4: вес | N4: в баллах | O4: оценка | P4: вес | Q4: в баллах | R4: оценка | S4: вес | T4: в баллах
A5: 1. МКУ "УСЗН Ворошиловского района г.Ростова-на-Дону" | B5: =T5+H5+E5+K5 -> 20 | D5: 40 | E5: =C5*D5 -> 0 | G5: 40 | H5: =F5*G5 -> 0 | I5: 1 | J5: 10 | K5: =I5*J5 -> 10 | M5: ― | N5: ― | P5: ― | Q5: ― | R5: 1 | S5: 10 | T5: =R5*S5 -> 10
A6: 2. МКУ "УСЗН Железнодорожного района г.Ростова-на-Дону" | B6: =T6+H6+E6+K6 -> 20 | D6: 40 | E6: =C6*D6 -> 0 | G6: 40 | H6: =F6*G6 -> 0 | I6: 1 | J6: 10 | K6: =I6*J6 -> 10 | M6: ― | N6: ― | P6: ― | Q6: ― | R6: 1 | S6: 10 | T6: =R6*S6 -> 10
A7: 3. МКУ "УСЗН Кировского района г.Ростова-на-Дону" | B7: =T7+H7+E7+K7 -> 20 | D7: 40 | E7: =C7*D7 -> 0 | G7: 40 | H7: =F7*G7 -> 0 | I7: 1 | J7: 10 | K7: =I7*J7 -> 10 | M7: ― | N7: ― | P7: ― | Q7: ― | R7: 1 | S7: 10 | T7: =R7*S7 -> 10
A8: 4. МКУ "УСЗН Ленинского района г.Ростова-на-Дону" | B8: =T8+H8+E8+K8 -> 20 | D8: 40 | E8: =C8*D8 -> 0 | G8: 40 | H8: =F8*G8 -> 0 | I8: 1 | J8: 10 | K8: =I8*J8 -> 10 | M8: ― | N8: ― | P8: ― | Q8: ― | R8: 1 | S8: 10 | T8: =R8*S8 -> 10
A9: 5. МКУ "УСЗН Октябрьского района г.Ростова-на-Дону" | B9: =T9+H9+E9+K9 -> 20 | D9: 40 | E9: =C9*D9 -> 0 | G9: 40 | H9: =F9*G9 -> 0 | I9: 1 | J9: 10 | K9: =I9*J9 -> 10 | M9: ― | N9: ― | P9: ― | Q9: ― | R9: 1 | S9: 10 | T9: =R9*S9 -> 10
A10: 6. МКУ "УСЗН Первомайского района г.Ростова-на-Дону" | B10: =T10+H10+E10+K10 -> 20 | D10: 40 | E10: =C10*D10 -> 0 | G10: 40 | H10: =F10*G10 -> 0 | I10: 1 | J10: 10 | K10: =I10*J10 -> 10 | M10: ― | N10: ― | P10: ― | Q10: ― | R10: 1 | S10: 10 | T10: =R10*S10 -> 10
A11: 7. МКУ "УСЗН Пролетарского района г.Ростова-на-Дону" | B11: =T11+H11+E11+K11 -> 20 | D11: 40 | E11: =C11*D11 -> 0 | G11: 40 | H11: =F11*G11 -> 0 | I11: 1 | J11: 10 | K11: =I11*J11 -> 10 | M11: ― | N11: ― | P11: ― | Q11: ― | R11: 1 | S11: 10 | T11: =R11*S11 -> 10
A12: 8. МКУ "УСЗН Советского района г.Ростова-на-Дону" | B12: =T12+H12+E12+K12 -> 20 | D12: 40 | E12: =C12*D12 -> 0 | G12: 40 | H12: =F12*G12 -> 0 | I12: 1 | J12: 10 | K12: =I12*J12 -> 10 | M12: ― | N12: ― | P12: ― | Q12: ― | R12: 1 | S12: 10 | T12: =R12*S12 -> 10
A13: 9. МБУ "ЦСОН Ворошиловского района г.Ростова-на-Дону" | B13: =T13+H13+E13+K13+N13+Q13 -> 30 | D13: 20 | E13: =C13*D13 -> 0 | G13: 20 | H13: =F13*G13 -> 0 | I13: 1 | J13: 20 | K13: =I13*J13 -> 20 | M13: 20 | N13: =L13*M13 -> 0 | P13: 10 | Q13: =O13*P13 -> 0 | R13: 1 | S13: 10 | T13: =R13*S13 -> 10
A14: 10. МБУ "ЦСОН Железнодорожного района г.Ростова-на-Дону" | B14: =T14+H14+E14+K14+N14+Q14 -> 30 | D14: 20 | E14: =C14*D14 -> 0 | G14: 20 | H14: =F14*G14 -> 0 | I14: 1 | J14: 20 | K14: =I14*J14 -> 20 | M14: 20 | N14: =L14*M14 -> 0 | P14: 10 | Q14: =O14*P14 -> 0 | R14: 1 | S14: 10 | T14: =R14*S14 -> 10
A15: 11. МБУ "ЦСОН Кировского района г.Ростова-на-Дону" | B15: =T15+H15+E15+K15+N15+Q15 -> 30 | D15: 20 | E15: =C15*D15 -> 0 | G15: 20 | H15: =F15*G15 -> 0 | I15: 1 | J15: 20 | K15: =I15*J15 -> 20 | M15: 20 | N15: =L15*M15 -> 0 | P15: 10 | Q15: =O15*P15 -> 0 | R15: 1 | S15: 10 | T15: =R15*S15 -> 10
A16: 12. МБУ "ЦСОН Ленинского района г.Ростова-на-Дону" | B16: =T16+H16+E16+K16+N16+Q16 -> 30 | D16: 20 | E16: =C16*D16 -> 0 | G16: 20 | H16: =F16*G16 -> 0 | I16: 1 | J16: 20 | K16: =I16*J16 -> 20 | M16: 20 | N16: =L16*M16 -> 0 | P16: 10 | Q16: =O16*P16 -> 0 | R16: 1 | S16: 10 | T16: =R16*S16 -> 10
A17: 13. МБУ "ЦСОН Октябрьского района г.Ростова-на-Дону" | B17: =T17+H17+E17+K17+N17+Q17 -> 30 | D17: 20 | E17: =C17*D17 -> 0 | G17: 20 | H17: =F17*G17 -> 0 | I17: 1 | J17: 20 | K17: =I17*J17 -> 20 | M17: 20 | N17: =L17*M17 -> 0 | P17: 10 | Q17: =O17*P17 -> 0 | R17: 1 | S17: 10 | T17: =R17*S17 -> 10
A18: 14. МБУ "ЦСОН Первомайского района г.Ростова-на-Дону" | B18: =T18+H18+E18+K18+N18+Q18 -> 30 | D18: 20 | E18: =C18*D18 -> 0 | G18: 20 | H18: =F18*G18 -> 0 | I18: 1 | J18: 20 | K18: =I18*J18 -> 20 | M18: 20 | N18: =L18*M18 -> 0 | P18: 10 | Q18: =O18*P18 -> 0 | R18: 1 | S18: 10 | T18: =R18*S18 -> 10
A19: 15. МБУ "ЦСОН Пролетарского района г.Ростова-на-Дону" | B19: =T19+H19+E19+K19+N19+Q19 -> 30 | D19: 20 | E19: =C19*D19 -> 0 | G19: 20 | H19: =F19*G19 -> 0 | I19: 1 | J19: 20 | K19: =I19*J19 -> 20 | M19: 20 | N19: =L19*M19 -> 0 | P19: 10 | Q19: =O19*P19 -> 0 | R19: 1 | S19: 10 | T19: =R19*S19 -> 10
A20: 16. МБУ "ЦСОН Советского района г.Ростова-на-Дону" | B20: =T20+H20+E20+K20+N20+Q20 -> 30 | D20: 20 | E20: =C20*D20 -> 0 | G20: 20 | H20: =F20*G20 -> 0 | I20: 1 | J20: 20 | K20: =I20*J20 -> 20 | M20: 20 | N20: =L20*M20 -> 0 | P20: 10 | Q20: =O20*P20 -> 0 | R20: 1 | S20: 10 | T20: =R20*S20 -> 10
A21: 17. МБУ СО "РЦ г. Ростова-на-Дону" | B21: =T21+H21+E21+K21+N21+Q21 -> 30 | D21: 20 | E21: =C21*D21 -> 0 | G21: 20 | H21: =F21*G21 -> 0 | I21: 1 | J21: 20 | K21: =I21*J21 -> 20 | M21: 20 | N21: =L21*M21 -> 0 | P21: 10 | Q21: =O21*P21 -> 0 | R21: 1 | S21: 10 | T21: =R21*S21 -> 10
A22: *показатель оценивается по итогам года

Sheet Учет и отчетность
A1: Наименование учреждения | B1: Общая оценка в баллах | C1: Наименование показателей оценки
C2: 3. Учет и отчетность
C3: 3.1. Соблюдение сроков предоставления учреждениями бюджетной и бухгалтерской отчетности | F3: 3.2. Качество предоставления бюджетной отчетности учреждениями в Департамент | I3: 3.3. Наличие размещенной на официальном сайте в сети Интернет www.bus.gov.ru актуальной информации о муниципальном учреждении | L3: 3.4. Административные правонарушения, совершенные должностными лицами учреждения по статье 15.156 КоАП РФ*
C4: оценка | D4: вес | E4: в баллах | F4: оценка | G4: вес | H4: в баллах | I4: оценка | J4: вес | K4: в баллах | L4: оценка | M4: вес | N4: в баллах
A5: 1. МКУ "УСЗН Ворошиловского района г.Ростова-на-Дону" | B5: =E5+H5+K5+N5 -> 75 | C5: 1 | D5: 25 | E5: =C5*D5 -> 25 | F5: 1 | G5: 25 | H5: =F5*G5 -> 25 | I5: 1 | J5: 25 | K5: =I5*J5 -> 25 | M5: 25 | N5: =L5*M5 -> 0
A6: 2. МКУ "УСЗН Железнодорожного района г.Ростова-на-Дону" | B6: =E6+H6+K6+N6 -> 75 | C6: 1 | D6: 25 | E6: =C6*D6 -> 25 | F6: 1 | G6: 25 | H6: =F6*G6 -> 25 | I6: 1 | J6: 25 | K6: =I6*J6 -> 25 | M6: 25 | N6: =L6*M6 -> 0
A7: 3. МКУ "УСЗН Кировского района г.Ростова-на-Дону" | B7: =E7+H7+K7+N7 -> 75 | C7: 1 | D7: 25 | E7: =C7*D7 -> 25 | F7: 1 | G7: 25 | H7: =F7*G7 -> 25 | I7: 1 | J7: 25 | K7: =I7*J7 -> 25 | M7: 25 | N7: =L7*M7 -> 0
A8: 4. МКУ "УСЗН Ленинского района г.Ростова-на-Дону" | B8: =E8+H8+K8+N8 -> 75 | C8: 1 | D8: 25 | E8: =C8*D8 -> 25 | F8: 1 | G8: 25 | H8: =F8*G8 -> 25 | I8: 1 | J8: 25 | K8: =I8*J8 -> 25 | M8: 25 | N8: =L8*M8 -> 0
A9: 5. МКУ "УСЗН Октябрьского района г.Ростова-на-Дону" | B9: =E9+H9+K9+N9 -> 75 | C9: 1 | D9: 25 | E9: =C9*D9 -> 25 | F9: 1 | G9: 25 | H9: =F9*G9 -> 25 | I9: 1 | J9: 25 | K9: =I9*J9 -> 25 | M9: 25 | N9: =L9*M9 -> 0
A10: 6. МКУ "УСЗН Первомайского района г.Ростова-на-Дону" | B10: =E10+H10+K10+N10 -> 75 | C10: 1 | D10: 25 | E10: =C10*D10 -> 25 | F10: 1 | G10: 25 | H10: =F10*G10 -> 25 | I10: 1 | J10: 25 | K10: =I10*J10 -> 25 | M10: 25 | N10: =L10*M10 -> 0
A11: 7. МКУ "УСЗН Пролетарского района г.Ростова-на-Дону" | B11: =E11+H11+K11+N11 -> 75 | C11: 1 | D11: 25 | E11: =C11*D11 -> 25 | F11: 1 | G11: 25 | H11: =F11*G11 -> 25 | I11: 1 | J11: 25 | K11: =I11*J11 -> 25 | M11: 25 | N11: =L11*M11 -> 0
A12: 8. МКУ "УСЗН Советского района г.Ростова-на-Дону" | B12: =E12+H12+K12+N12 -> 75 | C12: 1 | D12: 25 | E12: =C12*D12 -> 25 | F12: 1 | G12: 25 | H12: =F12*G12 -> 25 | I12: 1 | J12: 25 | K12: =I12*J12 -> 25 | M12: 25 | N12: =L12*M12 -> 0
A13: 9. МБУ "ЦСОН Ворошиловского района г.Ростова-на-Дону" | B13: =E13+H13+K13+N13 -> 75 | C13: 1 | D13: 25 | E13: =C13*D13 -> 25 | F13: 1 | G13: 25 | H13: =F13*G13 -> 25 | I13: 1 | J13: 25 | K13: =I13*J13 -> 25 | M13: 25 | N13: =L13*M13 -> 0
A14: 10. МБУ "ЦСОН Железнодорожного района г.Ростова-на-Дону" | B14: =E14+H14+K14+N14 -> 75 | C14: 1 | D14: 25 | E14: =C14*D14 -> 25 | F14: 1 | G14: 25 | H14: =F14*G14 -> 25 | I14: 1 | J14: 25 | K14: =I14*J14 -> 25 | M14: 25 | N14: =L14*M14 -> 0
A15: 11. МБУ "ЦСОН Кировского района г.Ростова-на-Дону" | B15: =E15+H15+K15+N15 -> 75 | C15: 1 | D15: 25 | E15: =C15*D15 -> 25 | F15: 1 | G15: 25 | H15: =F15*G15 -> 25 | I15: 1 | J15: 25 | K15: =I15*J15 -> 25 | M15: 25 | N15: =L15*M15 -> 0
A16: 12. МБУ "ЦСОН Ленинского района г.Ростова-на-Дону" | B16: =E16+H16+K16+N16 -> 75 | C16: 1 | D16: 25 | E16: =C16*D16 -> 25 | F16: 1 | G16: 25 | H16: =F16*G16 -> 25 | I16: 1 | J16: 25 | K16: =I16*J16 -> 25 | M16: 25 | N16: =L16*M16 -> 0
... A21: 17. МБУ СО "РЦ г. Ростова-на-Дону" | B21: =E21+H21+K21+N21 -> 75 | C21: 1 | D21: 25 | E21: =C21*D21 -> 25 | F21: 1 | G21: 25 | H21: =F21*G21 -> 25 | I21: 1 | J21: 25 | K21: =I21*J21 -> 25 | M21: 25 | N21: =L21*M21 -> 0
A22: *показатель оценивается по итогам года

Sheet Контроль и аудит
A4: Наименование учреждения | B4: Общая оценка в баллах | C4: Наименование показателей оценки
C5: 4. Контроль и аудит*
C6: 4.1. Наличие выявленных при осуществлении мероприятий внутреннего муниципального финансового контроля нарушений бюджетного законодательства, допущенных учреждениями, в т.ч. требующих возврата предоставленных средств и возмещение причиненного ущерба | F6: 4.2. Нарушение порядка составления, утверждения и ведения бюджетных смет казенными учреждениями
C7: оценка | D7: вес | E7: в баллах | F7: оценка | G7: вес | H7: в баллах
A8: 1. МКУ "УСЗН Ворошиловского района г.Ростова-на-Дону" | B8: =E8 -> 0 | D8: 50 | E8: =C8*D8 -> 0 | G8: 50 | H8: =F8*G8 -> 0
A9: 2. МКУ "УСЗН Железнодорожного района г.Ростова-на-Дону" | B9: =E9 -> 0 | D9: 50 | E9: =C9*D9 -> 0 | G9: 50 | H9: =F9*G9 -> 0
A10: 3. МКУ "УСЗН Кировского района г.Ростова-на-Дону" | B10: =E10 -> 0 | D10: 50 | E10: =C10*D10 -> 0 | G10: 50 | H10: =F10*G10 -> 0
A11: 4. МКУ "УСЗН Ленинского района г.Ростова-на-Дону" | B11: =E11 -> 0 | D11: 50 | E11: =C11*D11 -> 0 | G11: 50 | H11: =F11*G11 -> 0
A12: 5. МКУ "УСЗН Октябрьского района г.Ростова-на-Дону" | B12: =E12 -> 0 | D12: 50 | E12: =C12*D12 -> 0 | G12: 50 | H12: =F12*G12 -> 0
A13: 6. МКУ "УСЗН Первомайского района г.Ростова-на-Дону" | B13: =E13 -> 0 | D13: 50 | E13: =C13*D13 -> 0 | G13: 50 | H13: =F13*G13 -> 0
A14: 7. МКУ "УСЗН Пролетарского района г.Ростова-на-Дону" | B14: =E14 -> 0 | D14: 50 | E14: =C14*D14 -> 0 | G14: 50 | H14: =F14*G14 -> 0
A15: 8. МКУ "УСЗН Советского района г.Ростова-на-Дону" | B15: =E15 -> 0 | D15: 50 | E15: =C15*D15 -> 0 | G15: 50 | H15: =F15*G15 -> 0
A16: 9. МБУ "ЦСОН Ворошиловского района г.Ростова-на-Дону" | B16: =E16 -> 0 | D16: 100 | E16: =C16*D16 -> 0 | F16: ― | G16: ― | H16: ―
A17: 10. МБУ "ЦСОН Железнодорожного района г.Ростова-на-Дону" | B17: =E17 -> 0 | D17: 100 | E17: =C17*D17 -> 0 | F17: ― | G17: ― | H17: ―
A18: 11. МБУ "ЦСОН Кировского района г.Ростова-на-Дону" | B18: =E18 -> 0 | D18: 100 | E18: =C18*D18 -> 0 | F18: ― | G18: ― | H18: ―
A19: 12. МБУ "ЦСОН Ленинского района г.Ростова-на-Дону" | B19: =E19 -> 0 | D19: 100 | E19: =C19*D19 -> 0 | F19: ― | G19: ― | H19: ―
A20: 13. МБУ "ЦСОН Октябрьского района г.Ростова-на-Дону" | B20: =E20 -> 0 | D20: 100 | E20: =C20*D20 -> 0 | F20: ― | G20: ― | H20: ―
A21: 14. МБУ "ЦСОН Первомайского района г.Ростова-на-Дону" | B21: =E21 -> 0 | D21: 100 | E21: =C21*D21 -> 0 | F21: ― | G21: ― | H21: ―
A22: 15. МБУ "ЦСОН Пролетарского района г.Ростова-на-Дону" | B22: =E22 -> 0 | D22: 100 | E22: =C22*D22 -> 0 | F22: ― | G22: ― | H22: ―
A23: 16. МБУ "ЦСОН Советского района г.Ростова-на-Дону" | B23: =E23 -> 0 | D23: 100 | E23: =C23*D23 -> 0 | F23: ― | G23: ― | H23: ―
A24: 17. МБУ СО "РЦ г. Ростова-на-Дону" | B24: =E24 -> 0 | D24: 100 | E24: =C24*D24 -> 0 | F24: ― | G24: ― | H24: ―
A25: *показатели оцениваются по итогам года

Sheet Исполнение судебных актов
A1: Наименование учреждения | B1: Общая оценка в баллах | C1: Наименование показателей оценки
C2: 5. Исполнение судебных актов*
C3: 5.1. Судебные иски о взыскании бюджетных средств с учреждений, подведомственных Департаменту
C4: оценка | D4: вес | E4: в баллах
A5: 1. МКУ "УСЗН Ворошиловского района г.Ростова-на-Дону" | B5: =E5 -> 0 | D5: 100 | E5: =C5*D5 -> 0
A6: 2. МКУ "УСЗН Железнодорожного района г.Ростова-на-Дону" | B6: =E6 -> 0 | D6: 100 | E6: =C6*D6 -> 0
A7: 3. МКУ "УСЗН Кировского района г.Ростова-на-Дону" | B7: =E7 -> 0 | D7: 100 | E7: =C7*D7 -> 0
A8: 4. МКУ "УСЗН Ленинского района г.Ростова-на-Дону" | B8: =E8 -> 0 | D8: 100 | E8: =C8*D8 -> 0
A9: 5. МКУ "УСЗН Октябрьского района г.Ростова-на-Дону" | B9: =E9 -> 0 | D9: 100 | E9: =C9*D9 -> 0
A10: 6. МКУ "УСЗН Первомайского района г.Ростова-на-Дону" | B10: =E10 -> 0 | D10: 100 | E10: =C10*D10 -> 0
A11: 7. МКУ "УСЗН Пролетарского района г.Ростова-на-Дону" | B11: =E11 -> 0 | D11: 100 | E11: =C11*D11 -> 0
A12: 8. МКУ "УСЗН Советского района г.Ростова-на-Дону" | B12: =E12 -> 0 | D12: 100 | E12: =C12*D12 -> 0
A13: 9. МБУ "ЦСОН Ворошиловского района г.Ростова-на-Дону" | B13: =E13 -> 0 | D13: 100 | E13: =C13*D13 -> 0
A14: 10. МБУ "ЦСОН Железнодорожного района г.Ростова-на-Дону" | B14: =E14 -> 0 | D14: 100 | E14: =C14*D14 -> 0
A15: 11. МБУ "ЦСОН Кировского района г.Ростова-на-Дону" | B15: =E15 -> 0 | D15: 100 | E15: =C15*D15 -> 0
A16: 12. МБУ "ЦСОН Ленинского района г.Ростова-на-Дону" | B16: =E16 -> 0 | D16: 100 | E16: =C16*D16 -> 0
... A21: 17. МБУ СО "РЦ г. Ростова-на-Дону" | B21: =E21 -> 0 | D21: 100 | E21: =C21*D21 -> 0
A22: *показатель оценивается по итогам года

Sheet Качество исполнения закупок тов
C1: Наименование показателей оценки
C2: 6. Качество осуществления закупок товаров, работ и услуг для обеспечения муниципальных нужд*
A3: Наименование учреждения | B3: Общая оценка в баллах | C3: 6.1. Нарушение требований к принятию решений о способе определения поставщика (подрядчика, исполнителя) | F3: 6.2. Нарушения требований о размещении информации в единой информационной системе в сфере закупок | I3: 6.3. Нарушения требований в ходе определения поставщика (подрядчика, исполнителя) | L3: 6.4. Нарушения требований к заключению, изменению и (или) исполнению контракта | O3: 6.5. Доля экономии бюджетных ассигнований на закупки по результатам проведения конкурентных способов определения поставщиков (подрядчиков, исполнителей) | R3: 6.6. Доля контрактов, заключенных с единственным поставщиком (подрядчиком, исполнителем) по результатам проведения конкурентных способов определения поставщиков (подрядчиков, исполнителей) | U3: 6.7. Доля обоснованных жалоб на действия (бездействие) учреждений, подведомственных Департаменту
C4: оценка | D4: вес | E4: в баллах | F4: оценка | G4: вес | H4: в баллах | I4: оценка | J4: вес | K4: в баллах | L4: оценка | M4: вес | N4: в баллах | O4: оценка | P4: вес | Q4: в баллах | R4: оценка | S4: вес | T4: в баллах | U4: оценка | V4: вес | W4: в баллах
A5: 1. МКУ "УСЗН Ворошиловского района г.Ростова-на-Дону" | B5: =E5 -> 0 | D5: 15 | E5: =C5*D5 -> 0 | G5: 15 | H5: =F5*G5 -> 0 | J5: 15 | K5: =I5*J5 -> 0 | M5: 15 | N5: =L5*M5 -> 0 | P5: 15 | Q5: =O5*P5 -> 0 | S5: 15 | T5: =R5*S5 -> 0 | V5: 10 | W5: =U5*V5 -> 0
A6: 2. МКУ "УСЗН Железнодорожного района г.Ростова-на-Дону" | B6: =E6 -> 0 | D6: 15 | E6: =C6*D6 -> 0 | G6: 15 | H6: =F6*G6 -> 0 | J6: 15 | K6: =I6*J6 -> 0 | M6: 15 | N6: =L6*M6 -> 0 | P6: 15 | Q6: =O6*P6 -> 0 | S6: 15 | T6: =R6*S6 -> 0 | V6: 10 | W6: =U6*V6 -> 0
A7: 3. МКУ "УСЗН Кировского района г.Ростова-на-Дону" | B7: =E7 -> 0 | D7: 15 | E7: =C7*D7 -> 0 | G7: 15 | H7: =F7*G7 -> 0 | J7: 15 | K7: =I7*J7 -> 0 | M7: 15 | N7: =L7*M7 -> 0 | P7: 15 | Q7: =O7*P7 -> 0 | S7: 15 | T7: =R7*S7 -> 0 | V7: 10 | W7: =U7*V7 -> 0
A8: 4. МКУ "УСЗН Ленинского района г.Ростова-на-Дону" | B8: =E8 -> 0 | D8: 15 | E8: =C8*D8 -> 0 | G8: 15 | H8: =F8*G8 -> 0 | J8: 15 | K8: =I8*J8 -> 0 | M8: 15 | N8: =L8*M8 -> 0 | P8: 15 | Q8: =O8*P8 -> 0 | S8: 15 | T8: =R8*S8 -> 0 | V8: 10 | W8: =U8*V8 -> 0
A9: 5. МКУ "УСЗН Октябрьского района г.Ростова-на-Дону" | B9: =E9 -> 0 | D9: 15 | E9: =C9*D9 -> 0 | G9: 15 | H9: =F9*G9 -> 0 | J9: 15 | K9: =I9*J9 -> 0 | M9: 15 | N9: =L9*M9 -> 0 | P9: 15 | Q9: =O9*P9 -> 0 | S9: 15 | T9: =R9*S9 -> 0 | V9: 10 | W9: =U9*V9 -> 0
A10: 6. МКУ "УСЗН Первомайского района г.Ростова-на-Дону" | B10: =E10 -> 0 | D10: 15 | E10: =C10*D10 -> 0 | G10: 15 | H10: =F10*G10 -> 0 | J10: 15 | K10: =I10*J10 -> 0 | M10: 15 | N10: =L10*M10 -> 0 | P10: 15 | Q10: =O10*P10 -> 0 | S10: 15 | T10: =R10*S10 -> 0 | V10: 10 | W10: =U10*V10 -> 0
A11: 7. МКУ "УСЗН Пролетарского района г.Ростова-на-Дону" | B11: =E11 -> 0 | D11: 15 | E11: =C11*D11 -> 0 | G11: 15 | H11: =F11*G11 -> 0 | J11: 15 | K11: =I11*J11 -> 0 | M11: 15 | N11: =L11*M11 -> 0 | P11: 15 | Q11: =O11*P11 -> 0 | S11: 15 | T11: =R11*S11 -> 0 | V11: 10 | W11: =U11*V11 -> 0
A12: 8. МКУ "УСЗН Советского района г.Ростова-на-Дону" | B12: =E12 -> 0 | D12: 15 | E12: =C12*D12 -> 0 | G12: 15 | H12: =F12*G12 -> 0 | J12: 15 | K12: =I12*J12 -> 0 | M12: 15 | N12: =L12*M12 -> 0 | P12: 15 | Q12: =O12*P12 -> 0 | S12: 15 | T12: =R12*S12 -> 0 | V12: 10 | W12: =U12*V12 -> 0
A13: 9. МБУ "ЦСОН Ворошиловского района г.Ростова-на-Дону" | B13: =E13 -> 0 | D13: 15 | E13: =C13*D13 -> 0 | G13: 15 | H13: =F13*G13 -> 0 | J13: 15 | K13: =I13*J13 -> 0 | M13: 15 | N13: =L13*M13 -> 0 | P13: 15 | Q13: =O13*P13 -> 0 | S13: 15 | T13: =R13*S13 -> 0 | V13: 10 | W13: =U13*V13 -> 0
A14: 10. МБУ "ЦСОН Железнодорожного района г.Ростова-на-Дону" | B14: =E14 -> 0 | D14: 15 | E14: =C14*D14 -> 0 | G14: 15 | H14: =F14*G14 -> 0 | J14: 15 | K14: =I14*J14 -> 0 | M14: 15 | N14: =L14*M14 -> 0 | P14: 15 | Q14: =O14*P14 -> 0 | S14: 15 | T14: =R14*S14 -> 0 | V14: 10 | W14: =U14*V14 -> 0
A15: 11. МБУ "ЦСОН Кировского района г.Ростова-на-Дону" | B15: =E15 -> 0 | D15: 15 | E15: =C15*D15 -> 0 | G15: 15 | H15: =F15*G15 -> 0 | J15: 15 | K15: =I15*J15 -> 0 | M15: 15 | N15: =L15*M15 -> 0 | P15: 15 | Q15: =O15*P15 -> 0 | S15: 15 | T15: =R15*S15 -> 0 | V15: 10 | W15: =U15*V15 -> 0
A16: 12. МБУ "ЦСОН Ленинского района г.Ростова-на-Дону" | B16: =E16 -> 0 | D16: 15 | E16: =C16*D16 -> 0 | G16: 15 | H16: =F16*G16 -> 0 | J16: 15 | K16: =I16*J16 -> 0 | M16: 15 | N16: =L16*M16 -> 0 | P16: 15 | Q16: =O16*P16 -> 0 | S16: 15 | T16: =R16*S16 -> 0 | V16: 10 | W16: =U16*V16 -> 0
... A21: 17. МБУ СО "РЦ г. Ростова-на-Дону" | B21: =E21 -> 0 | D21: 15 | E21: =C21*D21 -> 0 | G21: 15 | H21: =F21*G21 -> 0 | J21: 15 | K21: =I21*J21 -> 0 | M21: 15 | N21: =L21*M21 -> 0 | P21: 15 | Q21: =O21*P21 -> 0 | S21: 15 | T21: =R21*S21 -> 0 | V21: 10 | W21: =U21*V21 -> 0
A22: *показатели оцениваются по итогам года

Sheet Результаты
A1: РЕЗУЛЬТАТЫ мониторинга качества финансового менеджмента по муниципальным учреждениям, подведомственным Департаменту социальной защиты населения города Ростова-на-Дону за 1 полугодие 2025 года
A2: Наименование учреждения | B2: Степень качества финансового менеджмента | C2: Общая оценка в баллах | D2: Направления мониторинга качества финансового менеджмента учреждений
D3: Качество планирования расходов | G3: Исполнение бюджета по расходам | J3: Учет и отчетность | M3: Контроль и аудит | P3: Исполнение судебных актов | S3: Качество осуществления закупок товаров, работ и услуг для обеспечения муниципальных нужд
D5: оценка | E5: вес | F5: итог | G5: оценка | H5: вес | I5: итог | J5: оценка | K5: вес | L5: итог | M5: оценка | N5: вес | O5: итог | P5: оценка | Q5: вес | R5: итог | S5: оценка | T5: вес | U5: итог
A6: 1. МКУ "УСЗН Ворошиловского района г.Ростова-на-Дону" | B6: I | C6: =F6+I6+L6+O6+R6+U6 -> 25.75 | D6: ='Качество планирования расходов'!B5 -> 0 | E6: 0.1 | F6: =D6*E6 -> 0 | G6: ='Исполнение бюджета по расходам'!B5 -> 20 | H6: 0.35 | I6: =G6*H6 -> 7 | J6: ='Учет и отчетность'!B5 -> 75 | K6: 0.25 | L6: =J6*K6 -> 18.75 | M6: ='Контроль и аудит'!B8 -> 0 | N6: 0.1 | O6: =N6*M6 -> 0 | P6: ='Исполнение судебных актов'!B5 -> 0 | Q6: 0.1 | R6: =P6*Q6 -> 0 | S6: ='Качество исполнения закупок тов'!B5 -> 0 | T6: 0.1 | U6: =S6*T6 -> 0
A7: 2. МКУ "УСЗН Железнодорожного района г.Ростова-на-Дону" | B7: I | C7: =F7+I7+L7+O7+R7+U7 -> 25.75 | D7: ='Качество планирования расходов'!B6 -> 0 | E7: 0.1 | F7: =D7*E7 -> 0 | G7: ='Исполнение бюджета по расходам'!B6 -> 20 | H7: 0.35 | I7: =G7*H7 -> 7 | J7: ='Учет и отчетность'!B6 -> 75 | K7: 0.25 | L7: =J7*K7 -> 18.75 | M7: ='Контроль и аудит'!B9 -> 0 | N7: 0.1 | O7: =N7*M7 -> 0 | P7: ='Исполнение судебных актов'!B6 -> 0 | Q7: 0.1 | R7: =P7*Q7 -> 0 | S7: ='Качество исполнения закупок тов'!B6 -> 0 | T7: 0.1 | U7: =S7*T7 -> 0
A8: 3. МКУ "УСЗН Кировского района г.Ростова-на-Дону" | B8: I | C8: =F8+I8+L8+O8+R8+U8 -> 25.75 | D8: ='Качество планирования расходов'!B7 -> 0 | E8: 0.1 | F8: =D8*E8 -> 0 | G8: ='Исполнение бюджета по расходам'!B7 -> 20 | H8: 0.35 | I8: =G8*H8 -> 7 | J8: ='Учет и отчетность'!B7 -> 75 | K8: 0.25 | L8: =J8*K8 -> 18.75 | M8: ='Контроль и аудит'!B10 -> 0 | N8: 0.1 | O8: =N8*M8 -> 0 | P8: ='Исполнение судебных актов'!B7 -> 0 | Q8: 0.1 | R8: =P8*Q8 -> 0 | S8: ='Качество исполнения закупок тов'!B7 -> 0 | T8: 0.1 | U8: =S8*T8 -> 0
A9: 4. МКУ "УСЗН Ленинского района г.Ростова-на-Дону" | B9: I | C9: =F9+I9+L9+O9+R9+U9 -> 25.75 | D9: ='Качество планирования расходов'!B8 -> 0 | E9: 0.1 | F9: =D9*E9 -> 0 | G9: ='Исполнение бюджета по расходам'!B8 -> 20 | H9: 0.35 | I9: =G9*H9 -> 7 | J9: ='Учет и отчетность'!B8 -> 75 | K9: 0.25 | L9: =J9*K9 -> 18.75 | M9: ='Контроль и аудит'!B11 -> 0 | N9: 0.1 | O9: =N9*M9 -> 0 | P9: ='Исполнение судебных актов'!B8 -> 0 | Q9: 0.1 | R9: =P9*Q9 -> 0 | S9: ='Качество исполнения закупок тов'!B8 -> 0 | T9: 0.1 | U9: =S9*T9 -> 0
A10: 5. МКУ "УСЗН Октябрьского района г.Ростова-на-Дону" | B10: I | C10: =F10+I10+L10+O10+R10+U10 -> 25.75 | D10: ='Качество планирования расходов'!B9 -> 0 | E10: 0.1 | F10: =D10*E10 -> 0 | G10: ='Исполнение бюджета по расходам'!B9 -> 20 | H10: 0.35 | I10: =G10*H10 -> 7 | J10: ='Учет и отчетность'!B9 -> 75 | K10: 0.25 | L10: =J10*K10 -> 18.75 | M10: ='Контроль и аудит'!B12 -> 0 | N10: 0.1 | O10: =N10*M10 -> 0 | P10: ='Исполнение судебных актов'!B9 -> 0 | Q10: 0.1 | R10: =P10*Q10 -> 0 | S10: ='Качество исполнения закупок тов'!B9 -> 0 | T10: 0.1 | U10: =S10*T10 -> 0
A11: 6. МКУ "УСЗН Первомайского района г.Ростова-на-Дону" | B11: I | C11: =F11+I11+L11+O11+R11+U11 -> 25.75 | D11: ='Качество планирования расходов'!B10 -> 0 | E11: 0.1 | F11: =D11*E11 -> 0 | G11: ='Исполнение бюджета по расходам'!B10 -> 20 | H11: 0.35 | I11: =G11*H11 -> 7 | J11: ='Учет и отчетность'!B10 -> 75 | K11: 0.25 | L11: =J11*K11 -> 18.75 | M11: ='Контроль и аудит'!B13 -> 0 | N11: 0.1 | O11: =N11*M11 -> 0 | P11: ='Исполнение судебных актов'!B10 -> 0 | Q11: 0.1 | R11: =P11*Q11 -> 0 | S11: ='Качество исполнения закупок тов'!B10 -> 0 | T11: 0.1 | U11: =S11*T11 -> 0
A12: 7. МКУ "УСЗН Пролетарского района г.Ростова-на-Дону" | B12: I | C12: =F12+I12+L12+O12+R12+U12 -> 25.75 | D12: ='Качество планирования расходов'!B11 -> 0 | E12: 0.1 | F12: =D12*E12 -> 0 | G12: ='Исполнение бюджета по расходам'!B11 -> 20 | H12: 0.35 | I12: =G12*H12 -> 7 | J12: ='Учет и отчетность'!B11 -> 75 | K12: 0.25 | L12: =J12*K12 -> 18.75 | M12: ='Контроль и аудит'!B14 -> 0 | N12: 0.1 | O12: =N12*M12 -> 0 | P12: ='Исполнение судебных актов'!B11 -> 0 | Q12: 0.1 | R12: =P12*Q12 -> 0 | S12: ='Качество исполнения закупок тов'!B11 -> 0 | T12: 0.1 | U12: =S12*T12 -> 0
A13: 8. МКУ "УСЗН Советского района г.Ростова-на-Дону" | B13: I | C13: =F13+I13+L13+O13+R13+U13 -> 25.75 | D13: ='Качество планирования расходов'!B12 -> 0 | E13: 0.1 | F13: =D13*E13 -> 0 | G13: ='Исполнение бюджета по расходам'!B12 -> 20 | H13: 0.35 | I13: =G13*H13 -> 7 | J13: ='Учет и отчетность'!B12 -> 75 | K13: 0.25 | L13: =J13*K13 -> 18.75 | M13: ='Контроль и аудит'!B15 -> 0 | N13: 0.1 | O13: =N13*M13 -> 0 | P13: ='Исполнение судебных актов'!B12 -> 0 | Q13: 0.1 | R13: =P13*Q13 -> 0 | S13: ='Качество исполнения закупок тов'!B12 -> 0 | T13: 0.1 | U13: =S13*T13 -> 0
A14: 9. МБУ "ЦСОН Ворошиловского района г.Ростова-на-Дону" | B14: I | C14: =F14+I14+L14+O14+R14+U14 -> 29.25 | D14: ='Качество планирования расходов'!B13 -> 0 | E14: 0.1 | F14: =D14*E14 -> 0 | G14: ='Исполнение бюджета по расходам'!B13 -> 30 | H14: 0.35 | I14: =G14*H14 -> 10.5 | J14: ='Учет и отчетность'!B13 -> 75 | K14: 0.25 | L14: =J14*K14 -> 18.75 | M14: ='Контроль и аудит'!B16 -> 0 | N14: 0.1 | O14: =N14*M14 -> 0 | P14: ='Исполнение судебных актов'!B13 -> 0 | Q14: 0.1 | R14: =P14*Q14 -> 0 | S14: ='Качество исполнения закупок тов'!B13 -> 0 | T14: 0.1 | U14: =S14*T14 -> 0
A15: 10. МБУ "ЦСОН Железнодорожного района г.Ростова-на-Дону" | B15: I | C15: =F15+I15+L15+O15+R15+U15 -> 29.25 | D15: ='Качество планирования расходов'!B14 -> 0 | E15: 0.1 | F15: =D15*E15 -> 0 | G15: ='Исполнение бюджета по расходам'!B14 -> 30 | H15: 0.35 | I15: =G15*H15 -> 10.5 | J15: ='Учет и отчетность'!B14 -> 75 | K15: 0.25 | L15: =J15*K15 -> 18.75 | M15: ='Контроль и аудит'!B17 -> 0 | N15: 0.1 | O15: =N15*M15 -> 0 | P15: ='Исполнение судебных актов'!B14 -> 0 | Q15: 0.1 | R15: =P15*Q15 -> 0 | S15: ='Качество исполнения закупок тов'!B14 -> 0 | T15: 0.1 | U15: =S15*T15 -> 0
A16: 11. МБУ "ЦСОН Кировского района г.Ростова-на-Дону" | B16: I | C16: =F16+I16+L16+O16+R16+U16 -> 29.25 | D16: ='Качество планирования расходов'!B15 -> 0 | E16: 0.1 | F16: =D16*E16 -> 0 | G16: ='Исполнение бюджета по расходам'!B15 -> 30 | H16: 0.35 | I16: =G16*H16 -> 10.5 | J16: ='Учет и отчетность'!B15 -> 75 | K16: 0.25 | L16: =J16*K16 -> 18.75 | M16: ='Контроль и аудит'!B18 -> 0 | N16: 0.1 | O16: =N16*M16 -> 0 | P16: ='Исполнение судебных актов'!B15 -> 0 | Q16: 0.1 | R16: =P16*Q16 -> 0 | S16: ='Качество исполнения закупок тов'!B15 -> 0 | T16: 0.1 | U16: =S16*T16 -> 0
A17: 12. МБУ "ЦСОН Ленинского района г.Ростова-на-Дону" | B17: I | C17: =F17+I17+L17+O17+R17+U17 -> 29.25 | D17: ='Качество планирования расходов'!B16 -> 0 | E17: 0.1 | F17: =D17*E17 -> 0 | G17: ='Исполнение бюджета по расходам'!B16 -> 30 | H17: 0.35 | I17: =G17*H17 -> 10.5 | J17: ='Учет и отчетность'!B16 -> 75 | K17: 0.25 | L17: =J17*K17 -> 18.75 | M17: ='Контроль и аудит'!B19 -> 0 | N17: 0.1 | O17: =N17*M17 -> 0 | P17: ='Исполнение судебных актов'!B16 -> 0 | Q17: 0.1 | R17: =P17*Q17 -> 0 | S17: ='Качество исполнения закупок тов'!B16 -> 0 | T17: 0.1 | U17: =S17*T17 -> 0
... A22: 17. МБУ СО "РЦ г. Ростова-на-Дону" | B22: I | C22: =F22+I22+L22+O22+R22+U22 -> 29.25 | D22: ='Качество планирования расходов'!B21 -> 0 | E22: 0.1 | F22: =D22*E22 -> 0 | G22: ='Исполнение бюджета по расходам'!B21 -> 30 | H22: 0.35 | I22: =G22*H22 -> 10.5 | J22: ='Учет и отчетность'!B21 -> 75 | K22: 0.25 | L22: =J22*K22 -> 18.75 | M22: ='Контроль и аудит'!B24 -> 0 | N22: 0.1 | O22: =N22*M22 -> 0 | P22: ='Исполнение судебных актов'!B21 -> 0 | Q22: 0.1 | R22: =P22*Q22 -> 0 | S22: ='Качество исполнения закупок тов'!B21 -> 0 | T22: 0.1 | U22: =S22*T22 -> 0
A23: Примечание: при проведении полугодового мониторинга качества финансового менеджмента степень и общая оценка в баллах в итоговом отчете не указываются.
A28: Исполнитель Чубарова В.С., 240-83-92

Sheet Лист1

Sheet Лист2

Sheet Лист3
