Workbook

Sheet Качество планирования расходов
A1: Наименование учреждения | B1: Общая оценка в баллах | C1: Наименование показателей оценки
C2: 1. Качество планирования расходов
C3: 1.1. Количество изменений, внесенных в бюджетную смету, план финансово-хозяйственной деятельности
C4: оценка | D4: вес | E4: в баллах
A5: 1. МКУ "УСЗН Ворошиловского района г.Ростова-на-Дону" | B5: =E5 -> 100 | C5: 1 | D5: 100 | E5: =C5*D5 -> 100
A6: 2. МКУ "УСЗН Железнодорожного района г.Ростова-на-Дону" | B6: =E6 -> 100 | C6: 1 | D6: 100 | E6: =C6*D6 -> 100
A7: 3. МКУ "УСЗН Кировского района г.Ростова-на-Дону" | B7: =E7 -> 100 | C7: 1 | D7: 100 | E7: =C7*D7 -> 100
A8: 4. МКУ "УСЗН Ленинского района г.Ростова-на-Дону" | B8: =E8 -> 100 | C8: 1 | D8: 100 | E8: =C8*D8 -> 100
A9: 5. МКУ "УСЗН Октябрьского района г.Ростова-на-Дону" | B9: =E9 -> 100 | C9: 1 | D9: 100 | E9: =C9*D9 -> 100
A10: 6. МКУ "УСЗН Первомайского района г.Ростова-на-Дону" | B10: =E10 -> 100 | C10: 1 | D10: 100 | E10: =C10*D10 -> 100
A11: 7. МКУ "УСЗН Пролетарского района г.Ростова-на-Дону" | B11: =E11 -> 100 | C11: 1 | D11: 100 | E11: =C11*D11 -> 100
A12: 8. МКУ "УСЗН Советского района г.Ростова-на-Дону" | B12: =E12 -> 100 | C12: 1 | D12: 100 | E12: =C12*D12 -> 100
A13: 9. МБУ "ЦСОН Ворошиловского района г.Ростова-на-Дону" | B13: =E13 -> 100 | C13: 1 | D13: 100 | E13: =C13*D13 -> 100
A14: 10. МБУ "ЦСОН Железнодорожного района г.Ростова-на-Дону" | B14: =E14 -> 100 | C14: 1 | D14: 100 | E14: =C14*D14 -> 100
A15: 11. МБУ "ЦСОН Кировского района г.Ростова-на-Дону" | B15: =E15 -> 100 | C15: 1 | D15: 100 | E15: =C15*D15 -> 100
A16: 12. МБУ "ЦСОН Ленинского района г.Ростова-на-Дону" | B16: =E16 -> 100 | C16: 1 | D16: 100 | E16: =C16*D16 -> 100
... A21: 17. МБУ СО "РЦ г. Ростова-на-Дону" | B21: =E21 -> 100 | C21: 1 | D21: 100 | E21: =C21*D21 -> 100

Sheet Исполнение бюджета по расходам
A1: Наименование учреждений | B1: Общая оценка в баллах | C1: Наименование показателей оценки
C2: 2. Исполнение бюджета по расходам
C3: 2.1. Остаток неисполненных бюджетных ассигнований в общем объеме расходов учреждения, исполненных в отчетном финансовом году | F3: 2.2. Равномерность расходов в отчетном финансовом году | I3: 2.3. Полнота исполнения муниципального задания | L3: 2.4. Наличие остатков (с указанием причин возникновения) по субсидиям на финансовое обеспечение выполнения муниципального задания на конец отчетного года | O3: 2.5. Наличие просроченной кредиторской задолженности
C4: оценка | D4: вес | E4: в баллах | F4: оценка | G4: вес | H4: в баллах | I4: оценка | J4: вес | K4: в баллах | L4: оценка | M4: вес | N4: в баллах | O4: оценка | P4: вес | Q4: в баллах
A5: 1. МКУ "УСЗН Ворошиловского района г.Ростова-на-Дону" | B5: =Q5+H5+E5 -> 100 | C5: 1 | D5: 36.7 | E5: =C5*D5 -> 36.7 | F5: 1 | G5: 36.7 | H5: =F5*G5 -> 36.7 | I5: ― | J5: ― | K5: ― | L5: ― | M5: ― | N5: ― | O5: 1 | P5: 26.6 | Q5: =O5*P5 -> 26.6
A6: 2. МКУ "УСЗН Железнодорожного района г.Ростова-на-Дону" | B6: =Q6+H6+E6 -> 100 | C6: 1 | D6: 36.7 | E6: =C6*D6 -> 36.7 | F6: 1 | G6: 36.7 | H6: =F6*G6 -> 36.7 | I6: ― | J6: ― | K6: ― | L6: ― | M6: ― | N6: ― | O6: 1 | P6: 26.6 | Q6: =O6*P6 -> 26.6
A7: 3. МКУ "УСЗН Кировского района г.Ростова-на-Дону" | B7: =Q7+H7+E7 -> 100 | C7: 1 | D7: 36.7 | E7: =C7*D7 -> 36.7 | F7: 1 | G7: 36.7 | H7: =F7*G7 -> 36.7 | I7: ― | J7: ― | K7: ― | L7: ― | M7: ― | N7: ― | O7: 1 | P7: 26.6 | Q7: =O7*P7 -> 26.6
A8: 4. МКУ "УСЗН Ленинского района г.Ростова-на-Дону" | B8: =Q8+H8+E8 -> 100 | C8: 1 | D8: 36.7 | E8: =C8*D8 -> 36.7 | F8: 1 | G8: 36.7 | H8: =F8*G8 -> 36.7 | I8: ― | J8: ― | K8: ― | L8: ― | M8: ― | N8: ― | O8: 1 | P8: 26.6 | Q8: =O8*P8 -> 26.6
A9: 5. МКУ "УСЗН Октябрьского района г.Ростова-на-Дону" | B9: =Q9+H9+E9 -> 100 | C9: 1 | D9: 36.7 | E9: =C9*D9 -> 36.7 | F9: 1 | G9: 36.7 | H9: =F9*G9 -> 36.7 | I9: ― | J9: ― | K9: ― | L9: ― | M9: ― | N9: ― | O9: 1 | P9: 26.6 | Q9: =O9*P9 -> 26.6
A10: 6. МКУ "УСЗН Первомайского района г.Ростова-на-Дону" | B10: =Q10+H10+E10 -> 93.394 | C10: 1 | D10: 36.7 | E10: =C10*D10 -> 36.7 | F10: 0.82 | G10: 36.7 | H10: =F10*G10 -> 30.094 | I10: ― | J10: ― | K10: ― | L10: ― | M10: ― | N10: ― | O10: 1 | P10: 26.6 | Q10: =O10*P10 -> 26.6
A11: 7. МКУ "УСЗН Пролетарского района г.Ростова-на-Дону" | B11: =Q11+H11+E11 -> 100 | C11: 1 | D11: 36.7 | E11: =C11*D11 -> 36.7 | F11: 1 | G11: 36.7 | H11: =F11*G11 -> 36.7 | I11: ― | J11: ― | K11: ― | L11: ― | M11: ― | N11: ― | O11: 1 | P11: 26.6 | Q11: =O11*P11 -> 26.6
A12: 8. МКУ "УСЗН Советского района г.Ростова-на-Дону" | B12: =Q12+H12+E12 -> 100 | C12: 1 | D12: 36.7 | E12: =C12*D12 -> 36.7 | F12: 1 | G12: 36.7 | H12: =F12*G12 -> 36.7 | I12: ― | J12: ― | K12: ― | L12: ― | M12: ― | N12: ― | O12: 1 | P12: 26.6 | Q12: =O12*P12 -> 26.6
A13: 9. МБУ "ЦСОН Ворошиловского района г.Ростова-на-Дону" | B13: =E13+H13+K13+N13+Q13 -> 100 | C13: 1 | D13: 25 | E13: =C13*D13 -> 25 | F13: 1 | G13: 25 | H13: =F13*G13 -> 25 | I13: 1 | J13: 20 | K13: =I13*J13 -> 20 | L13: 1 | M13: 15 | N13: =L13*M13 -> 15 | O13: 1 | P13: 15 | Q13: =O13*P13 -> 15
A14: 10. МБУ "ЦСОН Железнодорожного района г.Ростова-на-Дону" | B14: =E14+H14+K14+N14+Q14 -> 100 | C14: 1 | D14: 25 | E14: =C14*D14 -> 25 | F14: 1 | G14: 25 | H14: =F14*G14 -> 25 | I14: 1 | J14: 20 | K14: =I14*J14 -> 20 | L14: 1 | M14: 15 | N14: =L14*M14 -> 15 | O14: 1 | P14: 15 | Q14: =O14*P14 -> 15
A15: 11. МБУ "ЦСОН Кировского района г.Ростова-на-Дону" | B15: =E15+H15+K15+N15+Q15 -> 100 | C15: 1 | D15: 25 | E15: =C15*D15 -> 25 | F15: 1 | G15: 25 | H15: =F15*G15 -> 25 | I15: 1 | J15: 20 | K15: =I15*J15 -> 20 | L15: 1 | M15: 15 | N15: =L15*M15 -> 15 | O15: 1 | P15: 15 | Q15: =O15*P15 -> 15
A16: 12. МБУ "ЦСОН Ленинского района г.Ростова-на-Дону" | B16: =E16+H16+K16+N16+Q16 -> 100 | C16: 1 | D16: 25 | E16: =C16*D16 -> 25 | F16: 1 | G16: 25 | H16: =F16*G16 -> 25 | I16: 1 | J16: 20 | K16: =I16*J16 -> 20 | L16: 1 | M16: 15 | N16: =L16*M16 -> 15 | O16: 1 | P16: 15 | Q16: =O16*P16 -> 15
A17: 13. МБУ "ЦСОН Октябрьского района г.Ростова-на-Дону" | B17: =E17+H17+K17+N17+Q17 -> 100 | C17: 1 | D17: 25 | E17: =C17*D17 -> 25 | F17: 1 | G17: 25 | H17: =F17*G17 -> 25 | I17: 1 | J17: 20 | K17: =I17*J17 -> 20 | L17: 1 | M17: 15 | N17: =L17*M17 -> 15 | O17: 1 | P17: 15 | Q17: =O17*P17 -> 15
A18: 14. МБУ "ЦСОН Первомайского района г.Ростова-на-Дону" | B18: =E18+H18+K18+N18+Q18 -> 100 | C18: 1 | D18: 25 | E18: =C18*D18 -> 25 | F18: 1 | G18: 25 | H18: =F18*G18 -> 25 | I18: 1 | J18: 20 | K18: =I18*J18 -> 20 | L18: 1 | M18: 15 | N18: =L18*M18 -> 15 | O18: 1 | P18: 15 | Q18: =O18*P18 -> 15
A19: 15. МБУ "ЦСОН Пролетарского района г.Ростова-на-Дону" | B19: =E19+H19+K19+N19+Q19 -> 100 | C19: 1 | D19: 25 | E19: =C19*D19 -> 25 | F19: 1 | G19: 25 | H19: =F19*G19 -> 25 | I19: 1 | J19: 20 | K19: =I19*J19 -> 20 | L19: 1 | M19: 15 | N19: =L19*M19 -> 15 | O19: 1 | P19: 15 | Q19: =O19*P19 -> 15
A20: 16. МБУ "ЦСОН Советского района г.Ростова-на-Дону" | B20: =E20+H20+K20+N20+Q20 -> 100 | C20: 1 | D20: 25 | E20: =C20*D20 -> 25 | F20: 1 | G20: 25 | H20: =F20*G20 -> 25 | I20: 1 | J20: 20 | K20: =I20*J20 -> 20 | L20: 1 | M20: 15 | N20: =L20*M20 -> 15 | O20: 1 | P20: 15 | Q20: =O20*P20 -> 15
A21: 17. МБУ СО "РЦ г. Ростова-на-Дону" | B21: =E21+H21+K21+N21+Q21 -> 100 | C21: 1 | D21: 25 | E21: =C21*D21 -> 25 | F21: 1 | G21: 25 | H21: =F21*G21 -> 25 | I21: 1 | J21: 20 | K21: =I21*J21 -> 20 | L21: 1 | M21: 15 | N21: =L21*M21 -> 15 | O21: 1 | P21: 15 | Q21: =O21*P21 -> 15

Sheet Учет и отчетность
A1: Наименование учреждения | B1: Общая оценка в баллах | C1: Наименование показателей оценки
C2: 3. Учет и отчетность
C3: 3.1. Соблюдение сроков предоставления учреждениями бюджетной и бухгалтерской отчетности | F3: 3.2. Наличие ошибок в квартальной, годовой бюджетной отчетности, представляемой учреждениями в Департамент | I3: 3.3. Наличие размещенной на официальном сайте в сети Интернет www.bus.gov.ru актуальной информации о муниципальном учреждении
C4: оценка | D4: вес | E4: в баллах | F4: оценка | G4: вес | H4: в баллах | I4: оценка | J4: вес | K4: в баллах
A5: 1. МКУ "УСЗН Ворошиловского района г.Ростова-на-Дону" | B5: =E5+H5+K5 -> 100 | C5: 1 | D5: 35 | E5: =C5*D5 -> 35 | F5: 1 | G5: 35 | H5: =F5*G5 -> 35 | I5: 1 | J5: 30 | K5: =I5*J5 -> 30
A6: 2. МКУ "УСЗН Железнодорожного района г.Ростова-на-Дону" | B6: =E6+H6+K6 -> 100 | C6: 1 | D6: 35 | E6: =C6*D6 -> 35 | F6: 1 | G6: 35 | H6: =F6*G6 -> 35 | I6: 1 | J6: 30 | K6: =I6*J6 -> 30
A7: 3. МКУ "УСЗН Кировского района г.Ростова-на-Дону" | B7: =E7+H7+K7 -> 100 | C7: 1 | D7: 35 | E7: =C7*D7 -> 35 | F7: 1 | G7: 35 | H7: =F7*G7 -> 35 | I7: 1 | J7: 30 | K7: =I7*J7 -> 30
A8: 4. МКУ "УСЗН Ленинского района г.Ростова-на-Дону" | B8: =E8+H8+K8 -> 100 | C8: 1 | D8: 35 | E8: =C8*D8 -> 35 | F8: 1 | G8: 35 | H8: =F8*G8 -> 35 | I8: 1 | J8: 30 | K8: =I8*J8 -> 30
A9: 5. МКУ "УСЗН Октябрьского района г.Ростова-на-Дону" | B9: =E9+H9+K9 -> 100 | C9: 1 | D9: 35 | E9: =C9*D9 -> 35 | F9: 1 | G9: 35 | H9: =F9*G9 -> 35 | I9: 1 | J9: 30 | K9: =I9*J9 -> 30
A10: 6. МКУ "УСЗН Первомайского района г.Ростова-на-Дону" | B10: =E10+H10+K10 -> 100 | C10: 1 | D10: 35 | E10: =C10*D10 -> 35 | F10: 1 | G10: 35 | H10: =F10*G10 -> 35 | I10: 1 | J10: 30 | K10: =I10*J10 -> 30
A11: 7. МКУ "УСЗН Пролетарского района г.Ростова-на-Дону" | B11: =E11+H11+K11 -> 100 | C11: 1 | D11: 35 | E11: =C11*D11 -> 35 | F11: 1 | G11: 35 | H11: =F11*G11 -> 35 | I11: 1 | J11: 30 | K11: =I11*J11 -> 30
A12: 8. МКУ "УСЗН Советского района г.Ростова-на-Дону" | B12: =E12+H12+K12 -> 100 | C12: 1 | D12: 35 | E12: =C12*D12 -> 35 | F12: 1 | G12: 35 | H12: =F12*G12 -> 35 | I12: 1 | J12: 30 | K12: =I12*J12 -> 30
A13: 9. МБУ "ЦСОН Ворошиловского района г.Ростова-на-Дону" | B13: =E13+H13+K13 -> 100 | C13: 1 | D13: 35 | E13: =C13*D13 -> 35 | F13: 1 | G13: 35 | H13: =F13*G13 -> 35 | I13: 1 | J13: 30 | K13: =I13*J13 -> 30
A14: 10. МБУ "ЦСОН Железнодорожного района г.Ростова-на-Дону" | B14: =E14+H14+K14 -> 100 | C14: 1 | D14: 35 | E14: =C14*D14 -> 35 | F14: 1 | G14: 35 | H14: =F14*G14 -> 35 | I14: 1 | J14: 30 | K14: =I14*J14 -> 30
A15: 11. МБУ "ЦСОН Кировского района г.Ростова-на-Дону" | B15: =E15+H15+K15 -> 100 | C15: 1 | D15: 35 | E15: =C15*D15 -> 35 | F15: 1 | G15: 35 | H15: =F15*G15 -> 35 | I15: 1 | J15: 30 | K15: =I15*J15 -> 30
A16: 12. МБУ "ЦСОН Ленинского района г.Ростова-на-Дону" | B16: =E16+H16+K16 -> 100 | C16: 1 | D16: 35 | E16: =C16*D16 -> 35 | F16: 1 | G16: 35 | H16: =F16*G16 -> 35 | I16: 1 | J16: 30 | K16: =I16*J16 -> 30
... A21: 17. МБУ СО "РЦ г. Ростова-на-Дону" | B21: =E21+H21+K21 -> 100 | C21: 1 | D21: 35 | E21: =C21*D21 -> 35 | F21: 1 | G21: 35 | H21: =F21*G21 -> 35 | I21: 1 | J21: 30 | K21: =I21*J21 -> 30

Sheet Контроль и аудит
A4: Наименование учреждения | B4: Общая оценка в баллах | C4: Наименование показателей оценки
C5: 4. Контроль и аудит
C6: 4.1.Наличие выявленных при осуществлении мероприятий муниципального финансового контроля нарушений бюджетного законодательства и законодательства в сфере закупок, допущенных учреждениями, в том числе требующих возврата предоставленных средств и возмещение причиненного ущерба
C7: оценка | D7: вес | E7: в баллах
A8: 1. МКУ "УСЗН Ворошиловского района г.Ростова-на-Дону" | B8: =E8 -> 100 | C8: 1 | D8: 100 | E8: =C8*D8 -> 100
A9: 2. МКУ "УСЗН Железнодорожного района г.Ростова-на-Дону" | B9: =E9 -> 100 | C9: 1 | D9: 100 | E9: =C9*D9 -> 100
A10: 3. МКУ "УСЗН Кировского района г.Ростова-на-Дону" | B10: =E10 -> 100 | C10: 1 | D10: 100 | E10: =C10*D10 -> 100
A11: 4. МКУ "УСЗН Ленинского района г.Ростова-на-Дону" | B11: =E11 -> 100 | C11: 1 | D11: 100 | E11: =C11*D11 -> 100
A12: 5. МКУ "УСЗН Октябрьского района г.Ростова-на-Дону" | B12: =E12 -> 100 | C12: 1 | D12: 100 | E12: =C12*D12 -> 100
A13: 6. МКУ "УСЗН Первомайского района г.Ростова-на-Дону" | B13: =E13 -> 100 | C13: 1 | D13: 100 | E13: =C13*D13 -> 100
A14: 7. МКУ "УСЗН Пролетарского района г.Ростова-на-Дону" | B14: =E14 -> 100 | C14: 1 | D14: 100 | E14: =C14*D14 -> 100
A15: 8. МКУ "УСЗН Советского района г.Ростова-на-Дону" | B15: =E15 -> 100 | C15: 1 | D15: 100 | E15: =C15*D15 -> 100
A16: 9. МБУ "ЦСОН Ворошиловского района г.Ростова-на-Дону" | B16: =E16 -> 100 | C16: 1 | D16: 100 | E16: =C16*D16 -> 100
A17: 10. МБУ "ЦСОН Железнодорожного района г.Ростова-на-Дону" | B17: =E17 -> 100 | C17: 1 | D17: 100 | E17: =C17*D17 -> 100
A18: 11. МБУ "ЦСОН Кировского района г.Ростова-на-Дону" | B18: =E18 -> 100 | C18: 1 | D18: 100 | E18: =C18*D18 -> 100
A19: 12. МБУ "ЦСОН Ленинского района г.Ростова-на-Дону" | B19: =E19 -> 100 | C19: 1 | D19: 100 | E19: =C19*D19 -> 100
... A24: 17. МБУ СО "РЦ г. Ростова-на-Дону" | B24: =E24 -> 100 | C24: 1 | D24: 100 | E24: =C24*D24 -> 100

Sheet Исполнение судебных актов
A1: Наименование учреждения | B1: Общая оценка в баллах | C1: Наименование показателей оценки
C2: 5. Исполнение судебных актов
C3: 5.1. Судебные иски о взыскании бюджетных средств с учреждений, подведомственных Департаменту
C4: оценка | D4: вес | E4: в баллах
A5: 1. МКУ "УСЗН Ворошиловского района г.Ростова-на-Дону" | B5: ― | C5: ― | D5: ― | E5: ―
A6: 2. МКУ "УСЗН Железнодорожного района г.Ростова-на-Дону" | B6: ― | C6: ― | D6: ― | E6: ―
A7: 3. МКУ "УСЗН Кировского района г.Ростова-на-Дону" | B7: ― | C7: ― | D7: ― | E7: ―
A8: 4. МКУ "УСЗН Ленинского района г.Ростова-на-Дону" | B8: =E8 -> 0 | C8: 0 | D8: 100 | E8: =C8*D8 -> 0
A9: 5. МКУ "УСЗН Октябрьского района г.Ростова-на-Дону" | B9: ― | C9: ― | D9: ― | E9: ―
A10: 6. МКУ "УСЗН Первомайского района г.Ростова-на-Дону" | B10: ― | C10: ― | D10: ― | E10: ―
A11: 7. МКУ "УСЗН Пролетарского района г.Ростова-на-Дону" | B11: ― | C11: ― | D11: ― | E11: ―
A12: 8. МКУ "УСЗН Советского района г.Ростова-на-Дону" | B12: ― | C12: ― | D12: ― | E12: ―
A13: 9. МБУ "ЦСОН Ворошиловского района г.Ростова-на-Дону" | B13: ― | C13: ― | D13: ― | E13: ―
A14: 10. МБУ "ЦСОН Железнодорожного района г.Ростова-на-Дону" | B14: ― | C14: ― | D14: ― | E14: ―
A15: 11. МБУ "ЦСОН Кировского района г.Ростова-на-Дону" | B15: ― | C15: ― | D15: ― | E15: ―
A16: 12. МБУ "ЦСОН Ленинского района г.Ростова-на-Дону" | B16: ― | C16: ― | D16: ― | E16: ―
A17: 13. МБУ "ЦСОН Октябрьского района г.Ростова-на-Дону" | B17: ― | C17: ― | D17: ― | E17: ―
A18: 14. МБУ "ЦСОН Первомайского района г.Ростова-на-Дону" | B18: ― | C18: ― | D18: ― | E18: ―
A19: 15. МБУ "ЦСОН Пролетарского района г.Ростова-на-Дону" | B19: ― | C19: ― | D19: ― | E19: ―
A20: 16. МБУ "ЦСОН Советского района г.Ростова-на-Дону" | B20: ― | C20: ― | D20: ― | E20: ―
A21: 17. МБУ СО "РЦ г. Ростова-на-Дону" | B21: ― | C21: ― | D21: ― | E21: ―

Sheet Результаты
A1: РЕЗУЛЬТАТЫ мониторинга качества финансового менеджмента по муниципальным учреждениям, подведомственным Департаменту социальной защиты населения города Ростова-на-Дону за 2020 год
A3: Наименование учреждения | B3: Степень качества финансового менеджмента | C3: Общая оценка в баллах | D3: Направления мониторинга качества финансового менеджмента учреждений
D4: Качество планирования расходов | G4: Исполнение бюджета по расходам | J4: Учет и отчетность | M4: Контроль и аудит | P4: Исполнение судебных актов
D6: оценка | E6: вес | F6: итог | G6: оценка | H6: вес | I6: итог | J6: оценка | K6: вес | L6: итог | M6: оценка | N6: вес | O6: итог | P6: оценка | Q6: вес | R6: итог
A7: 1. МКУ "УСЗН Ворошиловского района г.Ростова-на-Дону" | B7: I | C7: =F7+I7+L7+O7 -> 100 | D7: ='Качество планирования расходов'!B5 -> 100 | E7: 0.125 | F7: =D7*E7 -> 12.5 | G7: ='Исполнение бюджета по расходам'!B5 -> 100 | H7: 0.475 | I7: =G7*H7 -> 47.5 | J7: ='Учет и отчетность'!B5 -> 100 | K7: 0.275 | L7: =J7*K7 -> 27.5 | M7: ='Контроль и аудит'!B8 -> 100 | N7: 0.125 | O7: =M7*N7 -> 12.5 | P7: ='Исполнение судебных актов'!B5 -> ― | Q7: ='Исполнение судебных актов'!C5 -> ― | R7: ='Исполнение судебных актов'!D5 -> ―
A8: 2. МКУ "УСЗН Железнодорожного района г.Ростова-на-Дону" | B8: I | C8: =F8+I8+L8+O8 -> 100 | D8: ='Качество планирования расходов'!B6 -> 100 | E8: 0.125 | F8: =D8*E8 -> 12.5 | G8: ='Исполнение бюджета по расходам'!B6 -> 100 | H8: 0.475 | I8: =G8*H8 -> 47.5 | J8: ='Учет и отчетность'!B6 -> 100 | K8: 0.275 | L8: =J8*K8 -> 27.5 | M8: ='Контроль и аудит'!B9 -> 100 | N8: 0.125 | O8: =M8*N8 -> 12.5 | P8: ='Исполнение судебных актов'!B6 -> ― | Q8: ='Исполнение судебных актов'!C6 -> ― | R8: ='Исполнение судебных актов'!D6 -> ―
A9: 3. МКУ "УСЗН Кировского района г.Ростова-на-Дону" | B9: I | C9: =F9+I9+L9+O9 -> 100 | D9: ='Качество планирования расходов'!B7 -> 100 | E9: 0.125 | F9: =D9*E9 -> 12.5 | G9: ='Исполнение бюджета по расходам'!B7 -> 100 | H9: 0.475 | I9: =G9*H9 -> 47.5 | J9: ='Учет и отчетность'!B7 -> 100 | K9: 0.275 | L9: =J9*K9 -> 27.5 | M9: ='Контроль и аудит'!B10 -> 100 | N9: 0.125 | O9: =M9*N9 -> 12.5 | P9: ='Исполнение судебных актов'!B7 -> ― | Q9: ='Исполнение судебных актов'!C7 -> ― | R9: ='Исполнение судебных актов'!D7 -> ―
A10: 4. МКУ "УСЗН Ленинского района г.Ростова-на-Дону" | B10: I | C10: =F10+I10+L10+O10+R10 -> 90 | D10: ='Качество планирования расходов'!B8 -> 100 | E10: 0.1 | F10: =D10*E10 -> 10 | G10: ='Исполнение бюджета по расходам'!B8 -> 100 | H10: 0.45 | I10: =G10*H10 -> 45 | J10: ='Учет и отчетность'!B8 -> 100 | K10: 0.25 | L10: =J10*K10 -> 25 | M10: ='Контроль и аудит'!B11 -> 100 | N10: 0.1 | O10: =M10*N10 -> 10 | P10: ='Исполнение судебных актов'!B8 -> 0 | Q10: 0.1 | R10: =Q10*P10 -> 0
A11: 5. МКУ "УСЗН Октябрьского района г.Ростова-на-Дону" | B11: I | C11: =F11+I11+L11+O11 -> 100 | D11: ='Качество планирования расходов'!B9 -> 100 | E11: 0.125 | F11: =D11*E11 -> 12.5 | G11: ='Исполнение бюджета по расходам'!B9 -> 100 | H11: 0.475 | I11: =G11*H11 -> 47.5 | J11: ='Учет и отчетность'!B9 -> 100 | K11: 0.275 | L11: =J11*K11 -> 27.5 | M11: ='Контроль и аудит'!B12 -> 100 | N11: 0.125 | O11: =M11*N11 -> 12.5 | P11: ='Исполнение судебных актов'!B9 -> ― | Q11: ='Исполнение судебных актов'!C9 -> ― | R11: ='Исполнение судебных актов'!D9 -> ―
A12: 6. МКУ "УСЗН Первомайского района г.Ростова-на-Дону" | B12: I | C12: =F12+I12+L12+O12 -> 96.86215 | D12: ='Качество планирования расходов'!B10 -> 100 | E12: 0.125 | F12: =D12*E12 -> 12.5 | G12: ='Исполнение бюджета по расходам'!B10 -> 93.394 | H12: 0.475 | I12: =G12*H12 -> 44.36215 | J12: ='Учет и отчетность'!B10 -> 100 | K12: 0.275 | L12: =J12*K12 -> 27.5 | M12: ='Контроль и аудит'!B13 -> 100 | N12: 0.125 | O12: =M12*N12 -> 12.5 | P12: ='Исполнение судебных актов'!B10 -> ― | Q12: ='Исполнение судебных актов'!C10 -> ― | R12: ='Исполнение судебных актов'!D10 -> ―
A13: 7. МКУ "УСЗН Пролетарского района г.Ростова-на-Дону" | B13: I | C13: =F13+I13+L13+O13 -> 100 | D13: ='Качество планирования расходов'!B11 -> 100 | E13: 0.125 | F13: =D13*E13 -> 12.5 | G13: ='Исполнение бюджета по расходам'!B11 -> 100 | H13: 0.475 | I13: =G13*H13 -> 47.5 | J13: ='Учет и отчетность'!B11 -> 100 | K13: 0.275 | L13: =J13*K13 -> 27.5 | M13: ='Контроль и аудит'!B14 -> 100 | N13: 0.125 | O13: =M13*N13 -> 12.5 | P13: ='Исполнение судебных актов'!B11 -> ― | Q13: ='Исполнение судебных актов'!C11 -> ― | R13: ='Исполнение судебных актов'!D11 -> ―
A14: 8. МКУ "УСЗН Советского района г.Ростова-на-Дону" | B14: I | C14: =F14+I14+L14+O14 -> 100 | D14: ='Качество планирования расходов'!B12 -> 100 | E14: 0.125 | F14: =D14*E14 -> 12.5 | G14: ='Исполнение бюджета по расходам'!B12 -> 100 | H14: 0.475 | I14: =G14*H14 -> 47.5 | J14: ='Учет и отчетность'!B12 -> 100 | K14: 0.275 | L14: =J14*K14 -> 27.5 | M14: ='Контроль и аудит'!B15 -> 100 | N14: 0.125 | O14: =M14*N14 -> 12.5 | P14: ='Исполнение судебных актов'!B12 -> ― | Q14: ='Исполнение судебных актов'!C12 -> ― | R14: ='Исполнение судебных актов'!D12 -> ―
A15: 9. МБУ "ЦСОН Ворошиловского района г.Ростова-на-Дону" | B15: I | C15: =F15+I15+L15+O15 -> 100 | D15: ='Качество планирования расходов'!B13 -> 100 | E15: 0.125 | F15: =D15*E15 -> 12.5 | G15: ='Исполнение бюджета по расходам'!B13 -> 100 | H15: 0.475 | I15: =G15*H15 -> 47.5 | J15: ='Учет и отчетность'!B13 -> 100 | K15: 0.275 | L15: =J15*K15 -> 27.5 | M15: ='Контроль и аудит'!B16 -> 100 | N15: 0.125 | O15: =M15*N15 -> 12.5 | P15: ='Исполнение судебных актов'!B13 -> ― | Q15: ='Исполнение судебных актов'!C13 -> ― | R15: ='Исполнение судебных актов'!D13 -> ―
A16: 10. МБУ "ЦСОН Железнодорожного района г.Ростова-на-Дону" | B16: I | C16: =F16+I16+L16+O16 -> 100 | D16: ='Качество планирования расходов'!B14 -> 100 | E16: 0.125 | F16: =D16*E16 -> 12.5 | G16: ='Исполнение бюджета по расходам'!B14 -> 100 | H16: 0.475 | I16: =G16*H16 -> 47.5 | J16: ='Учет и отчетность'!B14 -> 100 | K16: 0.275 | L16: =J16*K16 -> 27.5 | M16: ='Контроль и аудит'!B17 -> 100 | N16: 0.125 | O16: =M16*N16 -> 12.5 | P16: ='Исполнение судебных актов'!B14 -> ― | Q16: ='Исполнение судебных актов'!C14 -> ― | R16: ='Исполнение судебных актов'!D14 -> ―
A17: 11. МБУ "ЦСОН Кировского района г.Ростова-на-Дону" | B17: I | C17: =F17+I17+L17+O17 -> 100 | D17: ='Качество планирования расходов'!B15 -> 100 | E17: 0.125 | F17: =D17*E17 -> 12.5 | G17: ='Исполнение бюджета по расходам'!B15 -> 100 | H17: 0.475 | I17: =G17*H17 -> 47.5 | J17: ='Учет и отчетность'!B15 -> 100 | K17: 0.275 | L17: =J17*K17 -> 27.5 | M17: ='Контроль и аудит'!B18 -> 100 | N17: 0.125 | O17: =M17*N17 -> 12.5 | P17: ='Исполнение судебных актов'!B15 -> ― | Q17: ='Исполнение судебных актов'!C15 -> ― | R17: ='Исполнение судебных актов'!D15 -> ―
A18: 12. МБУ "ЦСОН Ленинского района г.Ростова-на-Дону" | B18: I | C18: =F18+I18+L18+O18 -> 100 | D18: ='Качество планирования расходов'!B16 -> 100 | E18: 0.125 | F18: =D18*E18 -> 12.5 | G18: ='Исполнение бюджета по расходам'!B16 -> 100 | H18: 0.475 | I18: =G18*H18 -> 47.5 | J18: ='Учет и отчетность'!B16 -> 100 | K18: 0.275 | L18: =J18*K18 -> 27.5 | M18: ='Контроль и аудит'!B19 -> 100 | N18: 0.125 | O18: =M18*N18 -> 12.5 | P18: ='Исполнение судебных актов'!B16 -> ― | Q18: ='Исполнение судебных актов'!C16 -> ― | R18: ='Исполнение судебных актов'!D16 -> ―
A19: 13. МБУ "ЦСОН Октябрьского района г.Ростова-на-Дону" | B19: I | C19: =F19+I19+L19+O19 -> 100 | D19: ='Качество планирования расходов'!B17 -> 100 | E19: 0.125 | F19: =D19*E19 -> 12.5 | G19: ='Исполнение бюджета по расходам'!B17 -> 100 | H19: 0.475 | I19: =G19*H19 -> 47.5 | J19: ='Учет и отчетность'!B17 -> 100 | K19: 0.275 | L19: =J19*K19 -> 27.5 | M19: ='Контроль и аудит'!B20 -> 100 | N19: 0.125 | O19: =M19*N19 -> 12.5 | P19: ='Исполнение судебных актов'!B17 -> ― | Q19: ='Исполнение судебных актов'!C17 -> ― | R19: ='Исполнение судебных актов'!D17 -> ―
A20: 14. МБУ "ЦСОН Первомайского района г.Ростова-на-Дону" | B20: I | C20: =F20+I20+L20+O20 -> 100 | D20: ='Качество планирования расходов'!B18 -> 100 | E20: 0.125 | F20: =D20*E20 -> 12.5 | G20: ='Исполнение бюджета по расходам'!B18 -> 100 | H20: 0.475 | I20: =G20*H20 -> 47.5 | J20: ='Учет и отчетность'!B18 -> 100 | K20: 0.275 | L20: =J20*K20 -> 27.5 | M20: ='Контроль и аудит'!B21 -> 100 | N20: 0.125 | O20: =M20*N20 -> 12.5 | P20: ='Исполнение судебных актов'!B18 -> ― | Q20: ='Исполнение судебных актов'!C18 -> ― | R20: ='Исполнение судебных актов'!D18 -> ―
A21: 15. МБУ "ЦСОН Пролетарского района г.Ростова-на-Дону" | B21: I | C21: =F21+I21+L21+O21 -> 100 | D21: ='Качество планирования расходов'!B19 -> 100 | E21: 0.125 | F21: =D21*E21 -> 12.5 | G21: ='Исполнение бюджета по расходам'!B19 -> 100 | H21: 0.475 | I21: =G21*H21 -> 47.5 | J21: ='Учет и отчетность'!B19 -> 100 | K21: 0.275 | L21: =J21*K21 -> 27.5 | M21: ='Контроль и аудит'!B22 -> 100 | N21: 0.125 | O21: =M21*N21 -> 12.5 | P21: ='Исполнение судебных актов'!B19 -> ― | Q21: ='Исполнение судебных актов'!C19 -> ― | R21: ='Исполнение судебных актов'!D19 -> ―
A22: 16. МБУ "ЦСОН Советского района г.Ростова-на-Дону" | B22: I | C22: =F22+I22+L22+O22 -> 100 | D22: ='Качество планирования расходов'!B20 -> 100 | E22: 0.125 | F22: =D22*E22 -> 12.5 | G22: ='Исполнение бюджета по расходам'!B20 -> 100 | H22: 0.475 | I22: =G22*H22 -> 47.5 | J22: ='Учет и отчетность'!B20 -> 100 | K22: 0.275 | L22: =J22*K22 -> 27.5 | M22: ='Контроль и аудит'!B23 -> 100 | N22: 0.125 | O22: =M22*N22 -> 12.5 | P22: ='Исполнение судебных актов'!B20 -> ― | Q22: ='Исполнение судебных актов'!C20 -> ― | R22: ='Исполнение судебных актов'!D20 -> ―
A23: 17. МБУ СО "РЦ г. Ростова-на-Дону" | B23: I | C23: =F23+I23+L23+O23 -> 100 | D23: ='Качество планирования расходов'!B21 -> 100 | E23: 0.125 | F23: =D23*E23 -> 12.5 | G23: ='Исполнение бюджета по расходам'!B21 -> 100 | H23: 0.475 | I23: =G23*H23 -> 47.5 | J23: ='Учет и отчетность'!B21 -> 100 | K23: 0.275 | L23: =J23*K23 -> 27.5 | M23: ='Контроль и аудит'!B24 -> 100 | N23: 0.125 | O23: =M23*N23 -> 12.5 | P23: ='Исполнение судебных актов'!B21 -> ― | Q23: ='Исполнение судебных актов'!C21 -> ― | R23: ='Исполнение судебных актов'!D21 -> ―
A25: Исполнитель Е.М. Айдинова, 240-44-15

Sheet Лист1

Sheet Лист2

Sheet Лист3
