Workbook

Sheet Качество планирования расходов
A1: Наименование учреждения | B1: Общая оценка в баллах | C1: Наименование показателей оценки
C2: 1. Качество планирования расходов
C3: 1.1. Количество изменений, внесенных в бюджетную смету, план финансово-хозяйственной деятельности
C4: оценка | D4: вес | E4: в баллах
A5: 1. МКУ "УСЗН Ворошиловского района г.Ростова-на-Дону" | B5: =E5 -> 100 | C5: 1 | D5: 100 | E5: =C5*D5 -> 100
A6: 2. МКУ "УСЗН Железнодорожного района г.Ростова-на-Дону" | B6: =E6 -> 100 | C6: 1 | D6: 100 | E6: =C6*D6 -> 100
A7: 3. МКУ "УСЗН Кировского района г.Ростова-на-Дону" | B7: =E7 -> 100 | C7: 1 | D7: 100 | E7: =C7*D7 -> 100
A8: 4. МКУ "УСЗН Ленинского района г.Ростова-на-Дону" | B8: =E8 -> 100 | C8: 1 | D8: 100 | E8: =C8*D8 -> 100
A9: 5. МКУ "УСЗН Октябрьского района г.Ростова-на-Дону" | B9: =E9 -> 100 | C9: 1 | D9: 100 | E9: =C9*D9 -> 100
A10: 6. МКУ "УСЗН Первомайского района г.Ростова-на-Дону" | B10: =E10 -> 100 | C10: 1 | D10: 100 | E10: =C10*D10 -> 100
A11: 7. МКУ "УСЗН Пролетарского района г.Ростова-на-Дону" | B11: =E11 -> 100 | C11: 1 | D11: 100 | E11: =C11*D11 -> 100
A12: 8. МКУ "УСЗН Советского района г.Ростова-на-Дону" | B12: =E12 -> 100 | C12: 1 | D12: 100 | E12: =C12*D12 -> 100
A13: 9. МБУ "ЦСОН Ворошиловского района г.Ростова-на-Дону" | B13: =E13 -> 100 | C13: 1 | D13: 100 | E13: =C13*D13 -> 100
A14: 10. МБУ "ЦСОН Железнодорожного района г.Ростова-на-Дону" | B14: =E14 -> 100 | C14: 1 | D14: 100 | E14: =C14*D14 -> 100
A15: 11. МБУ "ЦСОН Кировского района г.Ростова-на-Дону" | B15: =E15 -> 100 | C15: 1 | D15: 100 | E15: =C15*D15 -> 100
A16: 12. МБУ "ЦСОН Ленинского района г.Ростова-на-Дону" | B16: =E16 -> 100 | C16: 1 | D16: 100 | E16: =C16*D16 -> 100
... A21: 17. МБУ СО "РЦ г. Ростова-на-Дону" | B21: =E21 -> 100 | C21: 1 | D21: 100 | E21: =C21*D21 -> 100

Sheet Исполнение бюджета по расходам
A1: Наименование учреждений | B1: Общая оценка в баллах | C1: Наименование показателей оценки
C2: 2. Исполнение бюджета по расходам
C3: 2.1. Доля неисполненных на конец отчетного финансового года бюджетных ассигнований учреждением | F3: 2.2. Равномерность расходов | I3: 2.3. Исполнение утвержденных показателей кассового плана | L3: 2.4. Полнота исполнения муниципальных заданий | O3: 2.5. Наличие остатков (с указанием причин возникновения) по субсидиям на финансовое обеспечение выполнения муниципального задания на конец отчетного года | R3: 2.6. Наличие просроченной кредиторской задолженности
C4: оценка | D4: вес | E4: в баллах | F4: оценка | G4: вес | H4: в баллах | I4: оценка | J4: вес | K4: в баллах | L4: оценка | M4: вес | N4: в баллах | O4: оценка | P4: вес | Q4: в баллах | R4: оценка | S4: вес | T4: в баллах
A5: 1. МКУ "УСЗН Ворошиловского района г.Ростова-на-Дону" | B5: =E5+H5+K5+T5 -> 100 | C5: 1 | D5: 25 | E5: =C5*D5 -> 25 | F5: 1 | G5: 25 | H5: =F5*G5 -> 25 | I5: 1 | J5: 25 | K5: =I5*J5 -> 25 | L5: ― | M5: ― | N5: ― | O5: ― | P5: ― | Q5: ― | R5: 1 | S5: 25 | T5: =R5*S5 -> 25
A6: 2. МКУ "УСЗН Железнодорожного района г.Ростова-на-Дону" | B6: =E6+H6+K6+T6 -> 100 | C6: 1 | D6: 25 | E6: =C6*D6 -> 25 | F6: 1 | G6: 25 | H6: =F6*G6 -> 25 | I6: 1 | J6: 25 | K6: =I6*J6 -> 25 | L6: ― | M6: ― | N6: ― | O6: ― | P6: ― | Q6: ― | R6: 1 | S6: 25 | T6: =R6*S6 -> 25
A7: 3. МКУ "УСЗН Кировского района г.Ростова-на-Дону" | B7: =E7+H7+K7+T7 -> 100 | C7: 1 | D7: 25 | E7: =C7*D7 -> 25 | F7: 1 | G7: 25 | H7: =F7*G7 -> 25 | I7: 1 | J7: 25 | K7: =I7*J7 -> 25 | L7: ― | M7: ― | N7: ― | O7: ― | P7: ― | Q7: ― | R7: 1 | S7: 25 | T7: =R7*S7 -> 25
A8: 4. МКУ "УСЗН Ленинского района г.Ростова-на-Дону" | B8: =E8+H8+K8+T8 -> 100 | C8: 1 | D8: 25 | E8: =C8*D8 -> 25 | F8: 1 | G8: 25 | H8: =F8*G8 -> 25 | I8: 1 | J8: 25 | K8: =I8*J8 -> 25 | L8: ― | M8: ― | N8: ― | O8: ― | P8: ― | Q8: ― | R8: 1 | S8: 25 | T8: =R8*S8 -> 25
A9: 5. МКУ "УСЗН Октябрьского района г.Ростова-на-Дону" | B9: =E9+H9+K9+T9 -> 100 | C9: 1 | D9: 25 | E9: =C9*D9 -> 25 | F9: 1 | G9: 25 | H9: =F9*G9 -> 25 | I9: 1 | J9: 25 | K9: =I9*J9 -> 25 | L9: ― | M9: ― | N9: ― | O9: ― | P9: ― | Q9: ― | R9: 1 | S9: 25 | T9: =R9*S9 -> 25
A10: 6. МКУ "УСЗН Первомайского района г.Ростова-на-Дону" | B10: =E10+H10+K10+T10 -> 100 | C10: 1 | D10: 25 | E10: =C10*D10 -> 25 | F10: 1 | G10: 25 | H10: =F10*G10 -> 25 | I10: 1 | J10: 25 | K10: =I10*J10 -> 25 | L10: ― | M10: ― | N10: ― | O10: ― | P10: ― | Q10: ― | R10: 1 | S10: 25 | T10: =R10*S10 -> 25
A11: 7. МКУ "УСЗН Пролетарского района г.Ростова-на-Дону" | B11: =E11+H11+K11+T11 -> 100 | C11: 1 | D11: 25 | E11: =C11*D11 -> 25 | F11: 1 | G11: 25 | H11: =F11*G11 -> 25 | I11: 1 | J11: 25 | K11: =I11*J11 -> 25 | L11: ― | M11: ― | N11: ― | O11: ― | P11: ― | Q11: ― | R11: 1 | S11: 25 | T11: =R11*S11 -> 25
A12: 8. МКУ "УСЗН Советского района г.Ростова-на-Дону" | B12: =E12+H12+K12+T12 -> 100 | C12: 1 | D12: 25 | E12: =C12*D12 -> 25 | F12: 1 | G12: 25 | H12: =F12*G12 -> 25 | I12: 1 | J12: 25 | K12: =I12*J12 -> 25 | L12: ― | M12: ― | N12: ― | O12: ― | P12: ― | Q12: ― | R12: 1 | S12: 25 | T12: =R12*S12 -> 25
A13: 9. МБУ "ЦСОН Ворошиловского района г.Ростова-на-Дону" | B13: =E13+H13+K13+N13+Q13+T13 -> 90 | C13: 1 | D13: 20 | E13: =C13*D13 -> 20 | F13: 1 | G13: 20 | H13: =F13*G13 -> 20 | I13: 1 | J13: 20 | K13: =I13*J13 -> 20 | L13: 1 | M13: 20 | N13: =L13*M13 -> 20 | O13: 0 | P13: 10 | Q13: =O13*P13 -> 0 | R13: 1 | S13: 10 | T13: =R13*S13 -> 10
A14: 10. МБУ "ЦСОН Железнодорожного района г.Ростова-на-Дону" | B14: =E14+H14+K14+N14+Q14+T14 -> 90 | C14: 1 | D14: 20 | E14: =C14*D14 -> 20 | F14: 1 | G14: 20 | H14: =F14*G14 -> 20 | I14: 1 | J14: 20 | K14: =I14*J14 -> 20 | L14: 1 | M14: 20 | N14: =L14*M14 -> 20 | O14: 0 | P14: 10 | Q14: =O14*P14 -> 0 | R14: 1 | S14: 10 | T14: =R14*S14 -> 10
A15: 11. МБУ "ЦСОН Кировского района г.Ростова-на-Дону" | B15: =E15+H15+K15+N15+Q15+T15 -> 90 | C15: 1 | D15: 20 | E15: =C15*D15 -> 20 | F15: 1 | G15: 20 | H15: =F15*G15 -> 20 | I15: 1 | J15: 20 | K15: =I15*J15 -> 20 | L15: 1 | M15: 20 | N15: =L15*M15 -> 20 | O15: 0 | P15: 10 | Q15: =O15*P15 -> 0 | R15: 1 | S15: 10 | T15: =R15*S15 -> 10
A16: 12. МБУ "ЦСОН Ленинского района г.Ростова-на-Дону" | B16: =E16+H16+K16+N16+Q16+T16 -> 90 | C16: 1 | D16: 20 | E16: =C16*D16 -> 20 | F16: 1 | G16: 20 | H16: =F16*G16 -> 20 | I16: 1 | J16: 20 | K16: =I16*J16 -> 20 | L16: 1 | M16: 20 | N16: =L16*M16 -> 20 | O16: 0 | P16: 10 | Q16: =O16*P16 -> 0 | R16: 1 | S16: 10 | T16: =R16*S16 -> 10
A17: 13. МБУ "ЦСОН Октябрьского района г.Ростова-на-Дону" | B17: =E17+H17+K17+N17+Q17+T17 -> 90 | C17: 1 | D17: 20 | E17: =C17*D17 -> 20 | F17: 1 | G17: 20 | H17: =F17*G17 -> 20 | I17: 1 | J17: 20 | K17: =I17*J17 -> 20 | L17: 1 | M17: 20 | N17: =L17*M17 -> 20 | O17: 0 | P17: 10 | Q17: =O17*P17 -> 0 | R17: 1 | S17: 10 | T17: =R17*S17 -> 10
A18: 14. МБУ "ЦСОН Первомайского района г.Ростова-на-Дону" | B18: =E18+H18+K18+N18+Q18+T18 -> 90 | C18: 1 | D18: 20 | E18: =C18*D18 -> 20 | F18: 1 | G18: 20 | H18: =F18*G18 -> 20 | I18: 1 | J18: 20 | K18: =I18*J18 -> 20 | L18: 1 | M18: 20 | N18: =L18*M18 -> 20 | O18: 0 | P18: 10 | Q18: =O18*P18 -> 0 | R18: 1 | S18: 10 | T18: =R18*S18 -> 10
A19: 15. МБУ "ЦСОН Пролетарского района г.Ростова-на-Дону" | B19: =E19+H19+K19+N19+Q19+T19 -> 90 | C19: 1 | D19: 20 | E19: =C19*D19 -> 20 | F19: 1 | G19: 20 | H19: =F19*G19 -> 20 | I19: 1 | J19: 20 | K19: =I19*J19 -> 20 | L19: 1 | M19: 20 | N19: =L19*M19 -> 20 | O19: 0 | P19: 10 | Q19: =O19*P19 -> 0 | R19: 1 | S19: 10 | T19: =R19*S19 -> 10
A20: 16. МБУ "ЦСОН Советского района г.Ростова-на-Дону" | B20: =E20+H20+K20+N20+Q20+T20 -> 90 | C20: 1 | D20: 20 | E20: =C20*D20 -> 20 | F20: 1 | G20: 20 | H20: =F20*G20 -> 20 | I20: 1 | J20: 20 | K20: =I20*J20 -> 20 | L20: 1 | M20: 20 | N20: =L20*M20 -> 20 | O20: 0 | P20: 10 | Q20: =O20*P20 -> 0 | R20: 1 | S20: 10 | T20: =R20*S20 -> 10
A21: 17. МБУ СО "РЦ г. Ростова-на-Дону" | B21: =E21+H21+K21+N21+Q21+T21 -> 90 | C21: 1 | D21: 20 | E21: =C21*D21 -> 20 | F21: 1 | G21: 20 | H21: =F21*G21 -> 20 | I21: 1 | J21: 20 | K21: =I21*J21 -> 20 | L21: 1 | M21: 20 | N21: =L21*M21 -> 20 | O21: 0 | P21: 10 | Q21: =O21*P21 -> 0 | R21: 1 | S21: 10 | T21: =R21*S21 -> 10

Sheet Учет и отчетность
A1: Наименование учреждения | B1: Общая оценка в баллах | C1: Наименование показателей оценки
C2: 3. Учет и отчетность
C3: 3.1. Соблюдение сроков предоставления учреждениями бюджетной и бухгалтерской отчетности | F3: 3.2. Качество предоставления бюджетной отчетности учреждениями в Департамент | I3: 3.3. Наличие размещенной на официальном сайте в сети Интернет www.bus.gov.ru актуальной информации о муниципальном учреждении | L3: 3.4. Административные правонарушения, совершенные должностными лицами учреждения по статье 15.156 КоАП РФ
C4: оценка | D4: вес | E4: в баллах | F4: оценка | G4: вес | H4: в баллах | I4: оценка | J4: вес | K4: в баллах | L4: оценка | M4: вес | N4: в баллах
A5: 1. МКУ "УСЗН Ворошиловского района г.Ростова-на-Дону" | B5: =E5+H5+K5+N5 -> 100 | C5: 1 | D5: 25 | E5: =C5*D5 -> 25 | F5: 1 | G5: 25 | H5: =F5*G5 -> 25 | I5: 1 | J5: 25 | K5: =I5*J5 -> 25 | L5: 1 | M5: 25 | N5: =L5*M5 -> 25
A6: 2. МКУ "УСЗН Железнодорожного района г.Ростова-на-Дону" | B6: =E6+H6+K6+N6 -> 75 | C6: 1 | D6: 25 | E6: =C6*D6 -> 25 | F6: 1 | G6: 25 | H6: =F6*G6 -> 25 | I6: 1 | J6: 25 | K6: =I6*J6 -> 25 | L6: 0 | M6: 25 | N6: =L6*M6 -> 0
A7: 3. МКУ "УСЗН Кировского района г.Ростова-на-Дону" | B7: =E7+H7+K7+N7 -> 100 | C7: 1 | D7: 25 | E7: =C7*D7 -> 25 | F7: 1 | G7: 25 | H7: =F7*G7 -> 25 | I7: 1 | J7: 25 | K7: =I7*J7 -> 25 | L7: 1 | M7: 25 | N7: =L7*M7 -> 25
A8: 4. МКУ "УСЗН Ленинского района г.Ростова-на-Дону" | B8: =E8+H8+K8+N8 -> 100 | C8: 1 | D8: 25 | E8: =C8*D8 -> 25 | F8: 1 | G8: 25 | H8: =F8*G8 -> 25 | I8: 1 | J8: 25 | K8: =I8*J8 -> 25 | L8: 1 | M8: 25 | N8: =L8*M8 -> 25
A9: 5. МКУ "УСЗН Октябрьского района г.Ростова-на-Дону" | B9: =E9+H9+K9+N9 -> 100 | C9: 1 | D9: 25 | E9: =C9*D9 -> 25 | F9: 1 | G9: 25 | H9: =F9*G9 -> 25 | I9: 1 | J9: 25 | K9: =I9*J9 -> 25 | L9: 1 | M9: 25 | N9: =L9*M9 -> 25
A10: 6. МКУ "УСЗН Первомайского района г.Ростова-на-Дону" | B10: =E10+H10+K10+N10 -> 100 | C10: 1 | D10: 25 | E10: =C10*D10 -> 25 | F10: 1 | G10: 25 | H10: =F10*G10 -> 25 | I10: 1 | J10: 25 | K10: =I10*J10 -> 25 | L10: 1 | M10: 25 | N10: =L10*M10 -> 25
A11: 7. МКУ "УСЗН Пролетарского района г.Ростова-на-Дону" | B11: =E11+H11+K11+N11 -> 100 | C11: 1 | D11: 25 | E11: =C11*D11 -> 25 | F11: 1 | G11: 25 | H11: =F11*G11 -> 25 | I11: 1 | J11: 25 | K11: =I11*J11 -> 25 | L11: 1 | M11: 25 | N11: =L11*M11 -> 25
A12: 8. МКУ "УСЗН Советского района г.Ростова-на-Дону" | B12: =E12+H12+K12+N12 -> 100 | C12: 1 | D12: 25 | E12: =C12*D12 -> 25 | F12: 1 | G12: 25 | H12: =F12*G12 -> 25 | I12: 1 | J12: 25 | K12: =I12*J12 -> 25 | L12: 1 | M12: 25 | N12: =L12*M12 -> 25
A13: 9. МБУ "ЦСОН Ворошиловского района г.Ростова-на-Дону" | B13: =E13+H13+K13+N13 -> 100 | C13: 1 | D13: 25 | E13: =C13*D13 -> 25 | F13: 1 | G13: 25 | H13: =F13*G13 -> 25 | I13: 1 | J13: 25 | K13: =I13*J13 -> 25 | L13: 1 | M13: 25 | N13: =L13*M13 -> 25
A14: 10. МБУ "ЦСОН Железнодорожного района г.Ростова-на-Дону" | B14: =E14+H14+K14+N14 -> 100 | C14: 1 | D14: 25 | E14: =C14*D14 -> 25 | F14: 1 | G14: 25 | H14: =F14*G14 -> 25 | I14: 1 | J14: 25 | K14: =I14*J14 -> 25 | L14: 1 | M14: 25 | N14: =L14*M14 -> 25
A15: 11. МБУ "ЦСОН Кировского района г.Ростова-на-Дону" | B15: =E15+H15+K15+N15 -> 100 | C15: 1 | D15: 25 | E15: =C15*D15 -> 25 | F15: 1 | G15: 25 | H15: =F15*G15 -> 25 | I15: 1 | J15: 25 | K15: =I15*J15 -> 25 | L15: 1 | M15: 25 | N15: =L15*M15 -> 25
A16: 12. МБУ "ЦСОН Ленинского района г.Ростова-на-Дону" | B16: =E16+H16+K16+N16 -> 100 | C16: 1 | D16: 25 | E16: =C16*D16 -> 25 | F16: 1 | G16: 25 | H16: =F16*G16 -> 25 | I16: 1 | J16: 25 | K16: =I16*J16 -> 25 | L16: 1 | M16: 25 | N16: =L16*M16 -> 25
... A21: 17. МБУ СО "РЦ г. Ростова-на-Дону" | B21: =E21+H21+K21+N21 -> 100 | C21: 1 | D21: 25 | E21: =C21*D21 -> 25 | F21: 1 | G21: 25 | H21: =F21*G21 -> 25 | I21: 1 | J21: 25 | K21: =I21*J21 -> 25 | L21: 1 | M21: 25 | N21: =L21*M21 -> 25

Sheet Контроль и аудит
A4: Наименование учреждения | B4: Общая оценка в баллах | C4: Наименование показателей оценки
C5: 4. Контроль и аудит
C6: 4.1. Наличие выявленных при осуществлении мероприятий внутреннего муниципального финансового контроля нарушений бюджетного законодательства, допущенных учреждениями, в т.ч. требующих возврата предоставленных средств и возмещение причиненного ущерба | F6: 4.2. Нарушение порядка составления, утверждения и ведения бюджетных смет казенными учреждениями
C7: оценка | D7: вес | E7: в баллах | F7: оценка | G7: вес | H7: в баллах
A8: 1. МКУ "УСЗН Ворошиловского района г.Ростова-на-Дону" | B8: =E8+H8 -> 100 | C8: 1 | D8: 50 | E8: =C8*D8 -> 50 | F8: 1 | G8: 50 | H8: =F8*G8 -> 50
A9: 2. МКУ "УСЗН Железнодорожного района г.Ростова-на-Дону" | B9: =E9+H9 -> 100 | C9: 1 | D9: 50 | E9: =C9*D9 -> 50 | F9: 1 | G9: 50 | H9: =F9*G9 -> 50
A10: 3. МКУ "УСЗН Кировского района г.Ростова-на-Дону" | B10: =E10+H10 -> 100 | C10: 1 | D10: 50 | E10: =C10*D10 -> 50 | F10: 1 | G10: 50 | H10: =F10*G10 -> 50
A11: 4. МКУ "УСЗН Ленинского района г.Ростова-на-Дону" | B11: =E11+H11 -> 100 | C11: 1 | D11: 50 | E11: =C11*D11 -> 50 | F11: 1 | G11: 50 | H11: =F11*G11 -> 50
A12: 5. МКУ "УСЗН Октябрьского района г.Ростова-на-Дону" | B12: =E12+H12 -> 100 | C12: 1 | D12: 50 | E12: =C12*D12 -> 50 | F12: 1 | G12: 50 | H12: =F12*G12 -> 50
A13: 6. МКУ "УСЗН Первомайского района г.Ростова-на-Дону" | B13: =E13+H13 -> 100 | C13: 1 | D13: 50 | E13: =C13*D13 -> 50 | F13: 1 | G13: 50 | H13: =F13*G13 -> 50
A14: 7. МКУ "УСЗН Пролетарского района г.Ростова-на-Дону" | B14: =E14+H14 -> 100 | C14: 1 | D14: 50 | E14: =C14*D14 -> 50 | F14: 1 | G14: 50 | H14: =F14*G14 -> 50
A15: 8. МКУ "УСЗН Советского района г.Ростова-на-Дону" | B15: =E15+H15 -> 100 | C15: 1 | D15: 50 | E15: =C15*D15 -> 50 | F15: 1 | G15: 50 | H15: =F15*G15 -> 50
A16: 9. МБУ "ЦСОН Ворошиловского района г.Ростова-на-Дону" | B16: =E16 -> 100 | C16: 1 | D16: 100 | E16: =C16*D16 -> 100 | F16: ― | G16: ― | H16: ―
A17: 10. МБУ "ЦСОН Железнодорожного района г.Ростова-на-Дону" | B17: =E17 -> 100 | C17: 1 | D17: 100 | E17: =C17*D17 -> 100 | F17: ― | G17: ― | H17: ―
A18: 11. МБУ "ЦСОН Кировского района г.Ростова-на-Дону" | B18: =E18 -> 100 | C18: 1 | D18: 100 | E18: =C18*D18 -> 100 | F18: ― | G18: ― | H18: ―
A19: 12. МБУ "ЦСОН Ленинского района г.Ростова-на-Дону" | B19: =E19 -> 100 | C19: 1 | D19: 100 | E19: =C19*D19 -> 100 | F19: ― | G19: ― | H19: ―
A20: 13. МБУ "ЦСОН Октябрьского района г.Ростова-на-Дону" | B20: =E20 -> 100 | C20: 1 | D20: 100 | E20: =C20*D20 -> 100 | F20: ― | G20: ― | H20: ―
A21: 14. МБУ "ЦСОН Первомайского района г.Ростова-на-Дону" | B21: =E21 -> 100 | C21: 1 | D21: 100 | E21: =C21*D21 -> 100 | F21: ― | G21: ― | H21: ―
A22: 15. МБУ "ЦСОН Пролетарского района г.Ростова-на-Дону" | B22: =E22 -> 100 | C22: 1 | D22: 100 | E22: =C22*D22 -> 100 | F22: ― | G22: ― | H22: ―
A23: 16. МБУ "ЦСОН Советского района г.Ростова-на-Дону" | B23: =E23 -> 100 | C23: 1 | D23: 100 | E23: =C23*D23 -> 100 | F23: ― | G23: ― | H23: ―
A24: 17. МБУ СО "РЦ г. Ростова-на-Дону" | B24: =E24 -> 100 | C24: 1 | D24: 100 | E24: =C24*D24 -> 100 | F24: ― | G24: ― | H24: ―

Sheet Исполнение судебных актов
A1: Наименование учреждения | B1: Общая оценка в баллах | C1: Наименование показателей оценки
C2: 5. Исполнение судебных актов
C3: 5.1. Судебные иски о взыскании бюджетных средств с учреждений, подведомственных Департаменту
C4: оценка | D4: вес | E4: в баллах
A5: 1. МКУ "УСЗН Ворошиловского района г.Ростова-на-Дону" | B5: =E5 -> 100 | C5: 1 | D5: 100 | E5: =C5*D5 -> 100
A6: 2. МКУ "УСЗН Железнодорожного района г.Ростова-на-Дону" | B6: =E6 -> 100 | C6: 1 | D6: 100 | E6: =C6*D6 -> 100
A7: 3. МКУ "УСЗН Кировского района г.Ростова-на-Дону" | B7: =E7 -> 100 | C7: 1 | D7: 100 | E7: =C7*D7 -> 100
A8: 4. МКУ "УСЗН Ленинского района г.Ростова-на-Дону" | B8: =E8 -> 100 | C8: 1 | D8: 100 | E8: =C8*D8 -> 100
A9: 5. МКУ "УСЗН Октябрьского района г.Ростова-на-Дону" | B9: =E9 -> 100 | C9: 1 | D9: 100 | E9: =C9*D9 -> 100
A10: 6. МКУ "УСЗН Первомайского района г.Ростова-на-Дону" | B10: =E10 -> 50 | C10: 0.5 | D10: 100 | E10: =C10*D10 -> 50
A11: 7. МКУ "УСЗН Пролетарского района г.Ростова-на-Дону" | B11: =E11 -> 100 | C11: 1 | D11: 100 | E11: =C11*D11 -> 100
A12: 8. МКУ "УСЗН Советского района г.Ростова-на-Дону" | B12: =E12 -> 100 | C12: 1 | D12: 100 | E12: =C12*D12 -> 100
A13: 9. МБУ "ЦСОН Ворошиловского района г.Ростова-на-Дону" | B13: =E13 -> 100 | C13: 1 | D13: 100 | E13: =C13*D13 -> 100
A14: 10. МБУ "ЦСОН Железнодорожного района г.Ростова-на-Дону" | B14: =E14 -> 100 | C14: 1 | D14: 100 | E14: =C14*D14 -> 100
A15: 11. МБУ "ЦСОН Кировского района г.Ростова-на-Дону" | B15: =E15 -> 100 | C15: 1 | D15: 100 | E15: =C15*D15 -> 100
A16: 12. МБУ "ЦСОН Ленинского района г.Ростова-на-Дону" | B16: =E16 -> 100 | C16: 1 | D16: 100 | E16: =C16*D16 -> 100
... A21: 17. МБУ СО "РЦ г. Ростова-на-Дону" | B21: =E21 -> 100 | C21: 1 | D21: 100 | E21: =C21*D21 -> 100

Sheet Качество осуществления закупок
A1: Наименование учреждения | B1: Общая оценка в баллах | C1: Наименование показателей оценки
C2: 6. Качество осуществления закупок товаров, работ и услуг для обеспечения муниципальных нужд
C3: 6.1. Нарушение требований к принятию решений о способе определения поставщика (подрядчика, исполнителя) | F3: 6.2. Нарушения требований о размещении информации в единой информационной системе в сфере закупок | I3: 6.3. Нарушения требований в ходе определения поставщика (подрядчика, исполнителя) | L3: 6.4. Нарушения требований к заключению, изменению и (или) исполнению контракта | O3: 6.5. Доля экономии бюджетных ассигнований на закупки по результатам проведения конкурентных способов определения поставщиков (подрядчиков, исполнителей) | R3: 6.6. Доля контрактов, заключенных с единственным поставщиком (подрядчиком, исполнителем) по результатам проведения конкурентных способов определения поставщиков (подрядчиков, исполнителей) | U3: 6.7. Результативность использования бюджетных средств на закупку товаров (работ, услуг) | X3: 6.8. Доля обоснованных жалоб на действия (бездействие) учреждений, подведомственных Департаменту | AA3: 6.9. Нарушение требований к обоснованности закупок по группе видов расходов «200 Закупка товаров, работ и услуг для обеспечения государственных (муниципальных) нужд» | AD3: 6.10. Нарушение требований к обоснованности закупок по элементу вида расходов «323 Приобретение товаров, работ и услуг в пользу граждан в целях их социального обеспечения» | AG3: 6.11. Нарушение требований к обоснованности закупок по группе видов расходов «400 Капитальные вложения в объекты государственной (муниципальной) собственности»
C4: оценка | D4: вес | E4: в баллах | F4: оценка | G4: вес | H4: в баллах | I4: оценка | J4: вес | K4: в баллах | L4: оценка | M4: вес | N4: в баллах | O4: оценка | P4: вес | Q4: в баллах | R4: оценка | S4: вес | T4: в баллах | U4: оценка | V4: вес | W4: в баллах | X4: оценка | Y4: вес | Z4: в баллах | AA4: оценка | AB4: вес | AC4: в баллах | AD4: оценка | AE4: вес | AF4: в баллах | AG4: оценка | AH4: вес | AI4: в баллах
A5: 1. МКУ "УСЗН Ворошиловского района г.Ростова-на-Дону" | B5: =E5+H5+K5+N5+Q5+T5+AI5+W5+Z5+AC5+AF5 -> 90 | C5: 1 | D5: 10 | E5: =C5*D5 -> 10 | F5: 1 | G5: 10 | H5: =F5*G5 -> 10 | I5: 1 | J5: 10 | K5: =I5*J5 -> 10 | L5: 1 | M5: 10 | N5: =L5*M5 -> 10 | O5: 0 | P5: 10 | Q5: =O5*P5 -> 0 | R5: 1 | S5: 10 | T5: =R5*S5 -> 10 | U5: 1 | V5: 10 | W5: =U5*V5 -> 10 | X5: 1 | Y5: 10 | Z5: =X5*Y5 -> 10 | AA5: 1 | AB5: 10 | AC5: =AA5*AB5 -> 10 | AD5: 1 | AE5: 5 | AF5: =AD5*AE5 -> 5 | AG5: 1 | AH5: 5 | AI5: =AG5*AH5 -> 5
A6: 2. МКУ "УСЗН Железнодорожного района г.Ростова-на-Дону" | B6: =E6+H6+K6+N6+Q6+T6+AI6+W6+Z6+AC6+AF6 -> 70 | C6: 1 | D6: 10 | E6: =C6*D6 -> 10 | F6: 1 | G6: 10 | H6: =F6*G6 -> 10 | I6: 1 | J6: 10 | K6: =I6*J6 -> 10 | L6: 0 | M6: 10 | N6: =L6*M6 -> 0 | O6: 0 | P6: 10 | Q6: =O6*P6 -> 0 | R6: 1 | S6: 10 | T6: =R6*S6 -> 10 | U6: 1 | V6: 10 | W6: =U6*V6 -> 10 | X6: 1 | Y6: 10 | Z6: =X6*Y6 -> 10 | AA6: 0 | AB6: 10 | AC6: =AA6*AB6 -> 0 | AD6: 1 | AE6: 5 | AF6: =AD6*AE6 -> 5 | AG6: 1 | AH6: 5 | AI6: =AG6*AH6 -> 5
A7: 3. МКУ "УСЗН Кировского района г.Ростова-на-Дону" | B7: =E7+H7+K7+N7+Q7+T7+AI7+W7+Z7+AC7+AF7 -> 90 | C7: 1 | D7: 10 | E7: =C7*D7 -> 10 | F7: 1 | G7: 10 | H7: =F7*G7 -> 10 | I7: 1 | J7: 10 | K7: =I7*J7 -> 10 | L7: 1 | M7: 10 | N7: =L7*M7 -> 10 | O7: 0 | P7: 10 | Q7: =O7*P7 -> 0 | R7: 1 | S7: 10 | T7: =R7*S7 -> 10 | U7: 1 | V7: 10 | W7: =U7*V7 -> 10 | X7: 1 | Y7: 10 | Z7: =X7*Y7 -> 10 | AA7: 1 | AB7: 10 | AC7: =AA7*AB7 -> 10 | AD7: 1 | AE7: 5 | AF7: =AD7*AE7 -> 5 | AG7: 1 | AH7: 5 | AI7: =AG7*AH7 -> 5
A8: 4. МКУ "УСЗН Ленинского района г.Ростова-на-Дону" | B8: =E8+H8+K8+N8+Q8+T8+AI8+W8+Z8+AC8+AF8 -> 90 | C8: 1 | D8: 10 | E8: =C8*D8 -> 10 | F8: 1 | G8: 10 | H8: =F8*G8 -> 10 | I8: 1 | J8: 10 | K8: =I8*J8 -> 10 | L8: 1 | M8: 10 | N8: =L8*M8 -> 10 | O8: 0 | P8: 10 | Q8: =O8*P8 -> 0 | R8: 1 | S8: 10 | T8: =R8*S8 -> 10 | U8: 1 | V8: 10 | W8: =U8*V8 -> 10 | X8: 1 | Y8: 10 | Z8: =X8*Y8 -> 10 | AA8: 1 | AB8: 10 | AC8: =AA8*AB8 -> 10 | AD8: 1 | AE8: 5 | AF8: =AD8*AE8 -> 5 | AG8: 1 | AH8: 5 | AI8: =AG8*AH8 -> 5
A9: 5. МКУ "УСЗН Октябрьского района г.Ростова-на-Дону" | B9: =E9+H9+K9+N9+Q9+T9+AI9+W9+Z9+AC9+AF9 -> 90 | C9: 1 | D9: 10 | E9: =C9*D9 -> 10 | F9: 1 | G9: 10 | H9: =F9*G9 -> 10 | I9: 1 | J9: 10 | K9: =I9*J9 -> 10 | L9: 1 | M9: 10 | N9: =L9*M9 -> 10 | O9: 0 | P9: 10 | Q9: =O9*P9 -> 0 | R9: 1 | S9: 10 | T9: =R9*S9 -> 10 | U9: 1 | V9: 10 | W9: =U9*V9 -> 10 | X9: 1 | Y9: 10 | Z9: =X9*Y9 -> 10 | AA9: 1 | AB9: 10 | AC9: =AA9*AB9 -> 10 | AD9: 1 | AE9: 5 | AF9: =AD9*AE9 -> 5 | AG9: 1 | AH9: 5 | AI9: =AG9*AH9 -> 5
A10: 6. МКУ "УСЗН Первомайского района г.Ростова-на-Дону" | B10: =E10+H10+K10+N10+Q10+T10+AI10+W10+Z10+AC10+AF10 -> 100 | C10: 1 | D10: 10 | E10: =C10*D10 -> 10 | F10: 1 | G10: 10 | H10: =F10*G10 -> 10 | I10: 1 | J10: 10 | K10: =I10*J10 -> 10 | L10: 1 | M10: 10 | N10: =L10*M10 -> 10 | O10: 1 | P10: 10 | Q10: =O10*P10 -> 10 | R10: 1 | S10: 10 | T10: =R10*S10 -> 10 | U10: 1 | V10: 10 | W10: =U10*V10 -> 10 | X10: 1 | Y10: 10 | Z10: =X10*Y10 -> 10 | AA10: 1 | AB10: 10 | AC10: =AA10*AB10 -> 10 | AD10: 1 | AE10: 5 | AF10: =AD10*AE10 -> 5 | AG10: 1 | AH10: 5 | AI10: =AG10*AH10 -> 5
A11: 7. МКУ "УСЗН Пролетарского района г.Ростова-на-Дону" | B11: =E11+H11+K11+N11+Q11+T11+AI11+W11+Z11+AC11+AF11 -> 65 | C11: 1 | D11: 10 | E11: =C11*D11 -> 10 | F11: 0 | G11: 10 | H11: =F11*G11 -> 0 | I11: 0 | J11: 10 | K11: =I11*J11 -> 0 | L11: 1 | M11: 10 | N11: =L11*M11 -> 10 | O11: 0 | P11: 10 | Q11: =O11*P11 -> 0 | R11: 1 | S11: 10 | T11: =R11*S11 -> 10 | U11: 1 | V11: 10 | W11: =U11*V11 -> 10 | X11: 1 | Y11: 10 | Z11: =X11*Y11 -> 10 | AA11: 1 | AB11: 10 | AC11: =AA11*AB11 -> 10 | AD11: 0 | AE11: 5 | AF11: =AD11*AE11 -> 0 | AG11: 1 | AH11: 5 | AI11: =AG11*AH11 -> 5
A12: 8. МКУ "УСЗН Советского района г.Ростова-на-Дону" | B12: =E12+H12+K12+N12+Q12+T12+AI12+W12+Z12+AC12+AF12 -> 70 | C12: 1 | D12: 10 | E12: =C12*D12 -> 10 | F12: 1 | G12: 10 | H12: =F12*G12 -> 10 | I12: 1 | J12: 10 | K12: =I12*J12 -> 10 | L12: 0 | M12: 10 | N12: =L12*M12 -> 0 | O12: 0 | P12: 10 | Q12: =O12*P12 -> 0 | R12: 1 | S12: 10 | T12: =R12*S12 -> 10 | U12: 1 | V12: 10 | W12: =U12*V12 -> 10 | X12: 1 | Y12: 10 | Z12: =X12*Y12 -> 10 | AA12: 0 | AB12: 10 | AC12: =AA12*AB12 -> 0 | AD12: 1 | AE12: 5 | AF12: =AD12*AE12 -> 5 | AG12: 1 | AH12: 5 | AI12: =AG12*AH12 -> 5
A13: 9. МБУ "ЦСОН Ворошиловского района г.Ростова-на-Дону" | B13: =E13+H13+K13+N13+Q13+T13+AI13+W13+Z13+AC13+AF13 -> 90 | C13: 1 | D13: 10 | E13: =C13*D13 -> 10 | F13: 1 | G13: 10 | H13: =F13*G13 -> 10 | I13: 1 | J13: 10 | K13: =I13*J13 -> 10 | L13: 1 | M13: 10 | N13: =L13*M13 -> 10 | O13: 0 | P13: 10 | Q13: =O13*P13 -> 0 | R13: 1 | S13: 10 | T13: =R13*S13 -> 10 | U13: 1 | V13: 10 | W13: =U13*V13 -> 10 | X13: 1 | Y13: 10 | Z13: =X13*Y13 -> 10 | AA13: 1 | AB13: 10 | AC13: =AA13*AB13 -> 10 | AD13: 1 | AE13: 5 | AF13: =AD13*AE13 -> 5 | AG13: 1 | AH13: 5 | AI13: =AG13*AH13 -> 5
A14: 10. МБУ "ЦСОН Железнодорожного района г.Ростова-на-Дону" | B14: =E14+H14+K14+N14+Q14+T14+AI14+W14+Z14+AC14+AF14 -> 100 | C14: 1 | D14: 10 | E14: =C14*D14 -> 10 | F14: 1 | G14: 10 | H14: =F14*G14 -> 10 | I14: 1 | J14: 10 | K14: =I14*J14 -> 10 | L14: 1 | M14: 10 | N14: =L14*M14 -> 10 | O14: 1 | P14: 10 | Q14: =O14*P14 -> 10 | R14: 1 | S14: 10 | T14: =R14*S14 -> 10 | U14: 1 | V14: 10 | W14: =U14*V14 -> 10 | X14: 1 | Y14: 10 | Z14: =X14*Y14 -> 10 | AA14: 1 | AB14: 10 | AC14: =AA14*AB14 -> 10 | AD14: 1 | AE14: 5 | AF14: =AD14*AE14 -> 5 | AG14: 1 | AH14: 5 | AI14: =AG14*AH14 -> 5
A15: 11. МБУ "ЦСОН Кировского района г.Ростова-на-Дону" | B15: =E15+H15+K15+N15+Q15+T15+AI15+W15+Z15+AC15+AF15 -> 90 | C15: 1 | D15: 10 | E15: =C15*D15 -> 10 | F15: 1 | G15: 10 | H15: =F15*G15 -> 10 | I15: 1 | J15: 10 | K15: =I15*J15 -> 10 | L15: 1 | M15: 10 | N15: =L15*M15 -> 10 | O15: 0 | P15: 10 | Q15: =O15*P15 -> 0 | R15: 1 | S15: 10 | T15: =R15*S15 -> 10 | U15: 1 | V15: 10 | W15: =U15*V15 -> 10 | X15: 1 | Y15: 10 | Z15: =X15*Y15 -> 10 | AA15: 1 | AB15: 10 | AC15: =AA15*AB15 -> 10 | AD15: 1 | AE15: 5 | AF15: =AD15*AE15 -> 5 | AG15: 1 | AH15: 5 | AI15: =AG15*AH15 -> 5
A16: 12. МБУ "ЦСОН Ленинского района г.Ростова-на-Дону" | B16: =E16+H16+K16+N16+Q16+T16+AI16+W16+Z16+AC16+AF16 -> 100 | C16: 1 | D16: 10 | E16: =C16*D16 -> 10 | F16: 1 | G16: 10 | H16: =F16*G16 -> 10 | I16: 1 | J16: 10 | K16: =I16*J16 -> 10 | L16: 1 | M16: 10 | N16: =L16*M16 -> 10 | O16: 1 | P16: 10 | Q16: =O16*P16 -> 10 | R16: 1 | S16: 10 | T16: =R16*S16 -> 10 | U16: 1 | V16: 10 | W16: =U16*V16 -> 10 | X16: 1 | Y16: 10 | Z16: =X16*Y16 -> 10 | AA16: 1 | AB16: 10 | AC16: =AA16*AB16 -> 10 | AD16: 1 | AE16: 5 | AF16: =AD16*AE16 -> 5 | AG16: 1 | AH16: 5 | AI16: =AG16*AH16 -> 5
... A21: 17. МБУ СО "РЦ г. Ростова-на-Дону" | B21: =E21+H21+K21+N21+Q21+T21+AI21+W21+Z21+AC21+AF21 -> 100 | C21: 1 | D21: 10 | E21: =C21*D21 -> 10 | F21: 1 | G21: 10 | H21: =F21*G21 -> 10 | I21: 1 | J21: 10 | K21: =I21*J21 -> 10 | L21: 1 | M21: 10 | N21: =L21*M21 -> 10 | O21: 1 | P21: 10 | Q21: =O21*P21 -> 10 | R21: 1 | S21: 10 | T21: =R21*S21 -> 10 | U21: 1 | V21: 10 | W21: =U21*V21 -> 10 | X21: 1 | Y21: 10 | Z21: =X21*Y21 -> 10 | AA21: 1 | AB21: 10 | AC21: =AA21*AB21 -> 10 | AD21: 1 | AE21: 5 | AF21: =AD21*AE21 -> 5 | AG21: 1 | AH21: 5 | AI21: =AG21*AH21 -> 5

Sheet Результаты
A1: РЕЗУЛЬТАТЫ мониторинга качества финансового менеджмента по муниципальным учреждениям, подведомственным Департаменту социальной защиты населения города Ростова-на-Дону за 2025 год
A3: Наименование учреждения | B3: Степень качества финансового менеджмента | C3: Общая оценка в баллах | D3: Направления мониторинга качества финансового менеджмента учреждений
D4: Качество планирования расходов | G4: Исполнение бюджета по расходам | J4: Учет и отчетность | M4: Контроль и аудит | P4: Исполнение судебных актов | T4: Качество осуществления закупок товаров, работ и услуг для обеспечения муниципальных нужд
D6: оценка | E6: вес | F6: итог | G6: оценка | H6: вес | I6: итог | J6: оценка | K6: вес | L6: итог | M6: оценка | N6: вес | O6: итог | P6: оценка | Q6: вес | R6: итог | T6: оценка | U6: вес | V6: итог
A7: 1. МКУ "УСЗН Ворошиловского района г.Ростова-на-Дону" | B7: I | C7: =F7+I7+L7+O7+R7+V7 -> 99 | D7: ='Качество планирования расходов'!B5 -> 100 | E7: 0.1 | F7: =D7*E7 -> 10 | G7: ='Исполнение бюджета по расходам'!B5 -> 100 | H7: 0.35 | I7: =G7*H7 -> 35 | J7: ='Учет и отчетность'!B5 -> 100 | K7: 0.25 | L7: =J7*K7 -> 25 | M7: ='Контроль и аудит'!B8 -> 100 | N7: 0.1 | O7: =M7*N7 -> 10 | P7: ='Исполнение судебных актов'!B5 -> 100 | Q7: 0.1 | R7: =P7*Q7 -> 10 | S7: =E7+H7+K7 -> 0.7 | T7: ='Качество осуществления закупок'!B5 -> 90 | U7: 0.1 | V7: =T7*U7 -> 9
A8: 2. МКУ "УСЗН Железнодорожного района г.Ростова-на-Дону" | B8: I | C8: =F8+I8+L8+O8+R8+V8 -> 90.75 | D8: ='Качество планирования расходов'!B6 -> 100 | E8: 0.1 | F8: =D8*E8 -> 10 | G8: ='Исполнение бюджета по расходам'!B6 -> 100 | H8: 0.35 | I8: =G8*H8 -> 35 | J8: ='Учет и отчетность'!B6 -> 75 | K8: 0.25 | L8: =J8*K8 -> 18.75 | M8: ='Контроль и аудит'!B9 -> 100 | N8: 0.1 | O8: =M8*N8 -> 10 | P8: ='Исполнение судебных актов'!B6 -> 100 | Q8: 0.1 | R8: =P8*Q8 -> 10 | S8: =E8+H8+K8 -> 0.7 | T8: ='Качество осуществления закупок'!B6 -> 70 | U8: 0.1 | V8: =T8*U8 -> 7
A9: 3. МКУ "УСЗН Кировского района г.Ростова-на-Дону" | B9: I | C9: =F9+I9+L9+O9+R9+V9 -> 99 | D9: ='Качество планирования расходов'!B7 -> 100 | E9: 0.1 | F9: =D9*E9 -> 10 | G9: ='Исполнение бюджета по расходам'!B7 -> 100 | H9: 0.35 | I9: =G9*H9 -> 35 | J9: ='Учет и отчетность'!B7 -> 100 | K9: 0.25 | L9: =J9*K9 -> 25 | M9: ='Контроль и аудит'!B10 -> 100 | N9: 0.1 | O9: =M9*N9 -> 10 | P9: ='Исполнение судебных актов'!B7 -> 100 | Q9: 0.1 | R9: =P9*Q9 -> 10 | S9: =E9+H9+K9+Q9 -> 0.8 | T9: ='Качество осуществления закупок'!B7 -> 90 | U9: 0.1 | V9: =T9*U9 -> 9
A10: 4. МКУ "УСЗН Ленинского района г.Ростова-на-Дону" | B10: I | C10: =F10+I10+L10+O10+R10+V10 -> 99 | D10: ='Качество планирования расходов'!B8 -> 100 | E10: 0.1 | F10: =D10*E10 -> 10 | G10: ='Исполнение бюджета по расходам'!B8 -> 100 | H10: 0.35 | I10: =G10*H10 -> 35 | J10: ='Учет и отчетность'!B8 -> 100 | K10: 0.25 | L10: =J10*K10 -> 25 | M10: ='Контроль и аудит'!B11 -> 100 | N10: 0.1 | O10: =M10*N10 -> 10 | P10: ='Исполнение судебных актов'!B8 -> 100 | Q10: 0.1 | R10: =P10*Q10 -> 10 | S10: =E10+H10+K10+Q10 -> 0.8 | T10: ='Качество осуществления закупок'!B8 -> 90 | U10: 0.1 | V10: =T10*U10 -> 9
A11: 5. МКУ "УСЗН Октябрьского района г.Ростова-на-Дону" | B11: I | C11: =F11+I11+L11+O11+R11+V11 -> 99 | D11: ='Качество планирования расходов'!B9 -> 100 | E11: 0.1 | F11: =D11*E11 -> 10 | G11: ='Исполнение бюджета по расходам'!B9 -> 100 | H11: 0.35 | I11: =G11*H11 -> 35 | J11: ='Учет и отчетность'!B9 -> 100 | K11: 0.25 | L11: =J11*K11 -> 25 | M11: ='Контроль и аудит'!B12 -> 100 | N11: 0.1 | O11: =M11*N11 -> 10 | P11: ='Исполнение судебных актов'!B9 -> 100 | Q11: 0.1 | R11: =P11*Q11 -> 10 | S11: =E11+H11+K11 -> 0.7 | T11: ='Качество осуществления закупок'!B9 -> 90 | U11: 0.1 | V11: =T11*U11 -> 9
A12: 6. МКУ "УСЗН Первомайского района г.Ростова-на-Дону" | B12: I | C12: =F12+I12+L12+O12+R12+V12 -> 95 | D12: ='Качество планирования расходов'!B10 -> 100 | E12: 0.1 | F12: =D12*E12 -> 10 | G12: ='Исполнение бюджета по расходам'!B10 -> 100 | H12: 0.35 | I12: =G12*H12 -> 35 | J12: ='Учет и отчетность'!B10 -> 100 | K12: 0.25 | L12: =J12*K12 -> 25 | M12: ='Контроль и аудит'!B13 -> 100 | N12: 0.1 | O12: =M12*N12 -> 10 | P12: ='Исполнение судебных актов'!B10 -> 50 | Q12: 0.1 | R12: =P12*Q12 -> 5 | S12: =E12+H12+K12+N12 -> 0.8 | T12: ='Качество осуществления закупок'!B10 -> 100 | U12: 0.1 | V12: =T12*U12 -> 10
A13: 7. МКУ "УСЗН Пролетарского района г.Ростова-на-Дону" | B13: I | C13: =F13+I13+L13+O13+R13+V13 -> 96.5 | D13: ='Качество планирования расходов'!B11 -> 100 | E13: 0.1 | F13: =D13*E13 -> 10 | G13: ='Исполнение бюджета по расходам'!B11 -> 100 | H13: 0.35 | I13: =G13*H13 -> 35 | J13: ='Учет и отчетность'!B11 -> 100 | K13: 0.25 | L13: =J13*K13 -> 25 | M13: ='Контроль и аудит'!B14 -> 100 | N13: 0.1 | O13: =M13*N13 -> 10 | P13: ='Исполнение судебных актов'!B11 -> 100 | Q13: 0.1 | R13: =P13*Q13 -> 10 | S13: =E13+H13+K13 -> 0.7 | T13: ='Качество осуществления закупок'!B11 -> 65 | U13: 0.1 | V13: =T13*U13 -> 6.5
A14: 8. МКУ "УСЗН Советского района г.Ростова-на-Дону" | B14: I | C14: =F14+I14+L14+O14+R14+V14 -> 97 | D14: ='Качество планирования расходов'!B12 -> 100 | E14: 0.1 | F14: =D14*E14 -> 10 | G14: ='Исполнение бюджета по расходам'!B12 -> 100 | H14: 0.35 | I14: =G14*H14 -> 35 | J14: ='Учет и отчетность'!B12 -> 100 | K14: 0.25 | L14: =J14*K14 -> 25 | M14: ='Контроль и аудит'!B15 -> 100 | N14: 0.1 | O14: =M14*N14 -> 10 | P14: ='Исполнение судебных актов'!B12 -> 100 | Q14: 0.1 | R14: =P14*Q14 -> 10 | S14: =E14+H14+K14 -> 0.7 | T14: ='Качество осуществления закупок'!B12 -> 70 | U14: 0.1 | V14: =T14*U14 -> 7
A15: 9. МБУ "ЦСОН Ворошиловского района г.Ростова-на-Дону" | B15: I | C15: =F15+I15+L15+O15+R15+V15 -> 95.5 | D15: ='Качество планирования расходов'!B13 -> 100 | E15: 0.1 | F15: =D15*E15 -> 10 | G15: ='Исполнение бюджета по расходам'!B13 -> 90 | H15: 0.35 | I15: =G15*H15 -> 31.5 | J15: ='Учет и отчетность'!B13 -> 100 | K15: 0.25 | L15: =J15*K15 -> 25 | M15: ='Контроль и аудит'!B16 -> 100 | N15: 0.1 | O15: =M15*N15 -> 10 | P15: ='Исполнение судебных актов'!B13 -> 100 | Q15: 0.1 | R15: =P15*Q15 -> 10 | S15: =E15+H15+K15+N15 -> 0.8 | T15: ='Качество осуществления закупок'!B13 -> 90 | U15: 0.1 | V15: =T15*U15 -> 9
A16: 10. МБУ "ЦСОН Железнодорожного района г.Ростова-на-Дону" | B16: I | C16: =F16+I16+L16+O16+R16+V16 -> 96.5 | D16: ='Качество планирования расходов'!B14 -> 100 | E16: 0.1 | F16: =D16*E16 -> 10 | G16: ='Исполнение бюджета по расходам'!B14 -> 90 | H16: 0.35 | I16: =G16*H16 -> 31.5 | J16: ='Учет и отчетность'!B14 -> 100 | K16: 0.25 | L16: =J16*K16 -> 25 | M16: ='Контроль и аудит'!B17 -> 100 | N16: 0.1 | O16: =M16*N16 -> 10 | P16: ='Исполнение судебных актов'!B14 -> 100 | Q16: 0.1 | R16: =P16*Q16 -> 10 | S16: =E16+H16+K16+N16 -> 0.8 | T16: ='Качество осуществления закупок'!B14 -> 100 | U16: 0.1 | V16: =T16*U16 -> 10
A17: 11. МБУ "ЦСОН Кировского района г.Ростова-на-Дону" | B17: I | C17: =F17+I17+L17+O17+R17+V17 -> 95.5 | D17: ='Качество планирования расходов'!B15 -> 100 | E17: 0.1 | F17: =D17*E17 -> 10 | G17: ='Исполнение бюджета по расходам'!B15 -> 90 | H17: 0.35 | I17: =G17*H17 -> 31.5 | J17: ='Учет и отчетность'!B15 -> 100 | K17: 0.25 | L17: =J17*K17 -> 25 | M17: ='Контроль и аудит'!B18 -> 100 | N17: 0.1 | O17: =M17*N17 -> 10 | P17: ='Исполнение судебных актов'!B15 -> 100 | Q17: 0.1 | R17: =P17*Q17 -> 10 | S17: =E17+H17+K17+N17 -> 0.8 | T17: ='Качество осуществления закупок'!B15 -> 90 | U17: 0.1 | V17: =T17*U17 -> 9
A18: 12. МБУ "ЦСОН Ленинского района г.Ростова-на-Дону" | B18: I | C18: =F18+I18+L18+O18+R18+V18 -> 96.5 | D18: ='Качество планирования расходов'!B16 -> 100 | E18: 0.1 | F18: =D18*E18 -> 10 | G18: ='Исполнение бюджета по расходам'!B16 -> 90 | H18: 0.35 | I18: =G18*H18 -> 31.5 | J18: ='Учет и отчетность'!B16 -> 100 | K18: 0.25 | L18: =J18*K18 -> 25 | M18: ='Контроль и аудит'!B19 -> 100 | N18: 0.1 | O18: =M18*N18 -> 10 | P18: ='Исполнение судебных актов'!B16 -> 100 | Q18: 0.1 | R18: =P18*Q18 -> 10 | S18: =E18+H18+K18+N18 -> 0.8 | T18: ='Качество осуществления закупок'!B16 -> 100 | U18: 0.1 | V18: =T18*U18 -> 10
A19: 13. МБУ "ЦСОН Октябрьского района г.Ростова-на-Дону" | B19: I | C19: =F19+I19+L19+O19+R19+V19 -> 95.5 | D19: ='Качество планирования расходов'!B17 -> 100 | E19: 0.1 | F19: =D19*E19 -> 10 | G19: ='Исполнение бюджета по расходам'!B17 -> 90 | H19: 0.35 | I19: =G19*H19 -> 31.5 | J19: ='Учет и отчетность'!B17 -> 100 | K19: 0.25 | L19: =J19*K19 -> 25 | M19: ='Контроль и аудит'!B20 -> 100 | N19: 0.1 | O19: =M19*N19 -> 10 | P19: ='Исполнение судебных актов'!B17 -> 100 | Q19: 0.1 | R19: =P19*Q19 -> 10 | S19: =E19+H19+K19+N19 -> 0.8 | T19: ='Качество осуществления закупок'!B17 -> 90 | U19: 0.1 | V19: =T19*U19 -> 9
A20: 14. МБУ "ЦСОН Первомайского района г.Ростова-на-Дону" | B20: I | C20: =F20+I20+L20+O20+R20+V20 -> 95.5 | D20: ='Качество планирования расходов'!B18 -> 100 | E20: 0.1 | F20: =D20*E20 -> 10 | G20: ='Исполнение бюджета по расходам'!B18 -> 90 | H20: 0.35 | I20: =G20*H20 -> 31.5 | J20: ='Учет и отчетность'!B18 -> 100 | K20: 0.25 | L20: =J20*K20 -> 25 | M20: ='Контроль и аудит'!B21 -> 100 | N20: 0.1 | O20: =M20*N20 -> 10 | P20: ='Исполнение судебных актов'!B18 -> 100 | Q20: 0.1 | R20: =P20*Q20 -> 10 | S20: =E20+H20+K20 -> 0.7 | T20: ='Качество осуществления закупок'!B18 -> 90 | U20: 0.1 | V20: =T20*U20 -> 9
A21: 15. МБУ "ЦСОН Пролетарского района г.Ростова-на-Дону" | B21: I | C21: =F21+I21+L21+O21+R21+V21 -> 95.5 | D21: ='Качество планирования расходов'!B19 -> 100 | E21: 0.1 | F21: =D21*E21 -> 10 | G21: ='Исполнение бюджета по расходам'!B19 -> 90 | H21: 0.35 | I21: =G21*H21 -> 31.5 | J21: ='Учет и отчетность'!B19 -> 100 | K21: 0.25 | L21: =J21*K21 -> 25 | M21: ='Контроль и аудит'!B22 -> 100 | N21: 0.1 | O21: =M21*N21 -> 10 | P21: ='Исполнение судебных актов'!B19 -> 100 | Q21: 0.1 | R21: =P21*Q21 -> 10 | S21: =E21+H21+K21+N21 -> 0.8 | T21: ='Качество осуществления закупок'!B19 -> 90 | U21: 0.1 | V21: =T21*U21 -> 9
A22: 16. МБУ "ЦСОН Советского района г.Ростова-на-Дону" | B22: I | C22: =F22+I22+L22+O22+R22+V22 -> 96.5 | D22: ='Качество планирования расходов'!B20 -> 100 | E22: 0.1 | F22: =D22*E22 -> 10 | G22: ='Исполнение бюджета по расходам'!B20 -> 90 | H22: 0.35 | I22: =G22*H22 -> 31.5 | J22: ='Учет и отчетность'!B20 -> 100 | K22: 0.25 | L22: =J22*K22 -> 25 | M22: ='Контроль и аудит'!B23 -> 100 | N22: 0.1 | O22: =M22*N22 -> 10 | P22: ='Исполнение судебных актов'!B20 -> 100 | Q22: 0.1 | R22: =P22*Q22 -> 10 | S22: =E22+H22+K22+N22 -> 0.8 | T22: ='Качество осуществления закупок'!B20 -> 100 | U22: 0.1 | V22: =T22*U22 -> 10
A23: 17. МБУ СО "РЦ г. Ростова-на-Дону" | B23: I | C23: =F23+I23+L23+O23+R23+V23 -> 96.5 | D23: ='Качество планирования расходов'!B21 -> 100 | E23: 0.1 | F23: =D23*E23 -> 10 | G23: ='Исполнение бюджета по расходам'!B21 -> 90 | H23: 0.35 | I23: =G23*H23 -> 31.5 | J23: ='Учет и отчетность'!B21 -> 100 | K23: 0.25 | L23: =J23*K23 -> 25 | M23: ='Контроль и аудит'!B24 -> 100 | N23: 0.1 | O23: =M23*N23 -> 10 | P23: ='Исполнение судебных актов'!B21 -> 100 | Q23: 0.1 | R23: =P23*Q23 -> 10 | S23: =E23+H23+K23 -> 0.7 | T23: ='Качество осуществления закупок'!B21 -> 100 | U23: 0.1 | V23: =T23*U23 -> 10
A25: Исполнитель: Чубарова В.С., 240-83-92

Sheet Лист1

Sheet Лист2

Sheet Лист3
